
BEGIN:VCALENDAR
VERSION:2.0
PRODID:-//Center for Education, Innovation, and Learning in the Sciences - ECPv6.15.20//NONSGML v1.0//EN
CALSCALE:GREGORIAN
METHOD:PUBLISH
X-WR-CALNAME:Center for Education, Innovation, and Learning in the Sciences
X-ORIGINAL-URL:https://ceils.ucla.edu
X-WR-CALDESC:Events for Center for Education, Innovation, and Learning in the Sciences
REFRESH-INTERVAL;VALUE=DURATION:PT1H
X-Robots-Tag:noindex
X-PUBLISHED-TTL:PT1H
BEGIN:VTIMEZONE
TZID:America/Los_Angeles
BEGIN:DAYLIGHT
TZOFFSETFROM:-0800
TZOFFSETTO:-0700
TZNAME:PDT
DTSTART:20240310T100000
END:DAYLIGHT
BEGIN:STANDARD
TZOFFSETFROM:-0700
TZOFFSETTO:-0800
TZNAME:PST
DTSTART:20241103T090000
END:STANDARD
BEGIN:DAYLIGHT
TZOFFSETFROM:-0800
TZOFFSETTO:-0700
TZNAME:PDT
DTSTART:20250309T100000
END:DAYLIGHT
BEGIN:STANDARD
TZOFFSETFROM:-0700
TZOFFSETTO:-0800
TZNAME:PST
DTSTART:20251102T090000
END:STANDARD
BEGIN:DAYLIGHT
TZOFFSETFROM:-0800
TZOFFSETTO:-0700
TZNAME:PDT
DTSTART:20260308T100000
END:DAYLIGHT
BEGIN:STANDARD
TZOFFSETFROM:-0700
TZOFFSETTO:-0800
TZNAME:PST
DTSTART:20261101T090000
END:STANDARD
END:VTIMEZONE
BEGIN:VEVENT
DTSTART;TZID=America/Los_Angeles:20250305T114000
DTEND;TZID=America/Los_Angeles:20250305T120000
DTSTAMP:20260419T090228
CREATED:20250117T175554Z
LAST-MODIFIED:20250122T215456Z
UID:8855-1741174800-1741176000@ceils.ucla.edu
SUMMARY:CEILS Wellness Walks
DESCRIPTION:Join us for energizing 20-minute walks every Wednesday from 11:40 – 12:00 pm. Whether you stroll the full time\, a bit less\, or more\, this time is for you. You can use this time to connect with CEILS folks about teaching\, hold walking meetings with colleagues\, or put on your headphones and drift away. We’ll send a calendar invite to the emails we already have in our listserv\, but please forward to friends who would love to join! Bring a buddy and come walk with us! \n  \nMeet in the Hershey Hall Front Courtyard at 11:35 am
URL:https://ceils.ucla.edu/event/ceils-wellness-walks-7/
LOCATION:Hershey Hall Front Courtyard\, 612 Charles E Young Dr E\, Los Angeles\, CA\, 90095\, United States
END:VEVENT
BEGIN:VEVENT
DTSTART;TZID=America/Los_Angeles:20250306T123000
DTEND;TZID=America/Los_Angeles:20250306T133000
DTSTAMP:20260419T090228
CREATED:20250117T180058Z
LAST-MODIFIED:20250214T212440Z
UID:8861-1741264200-1741267800@ceils.ucla.edu
SUMMARY:Pedagogical Essentials for Academic Wellness: Syllabus Design
DESCRIPTION:Join our dynamic workshops to supercharge your course design and captivate your students! In just one hour\, you’ll discover effective strategies that enhance your teaching and benefit your students. Whether you’re launching a new course\, revamping an existing one\, or seeking a refresher\, we have exciting topics just for you. Don’t miss out—choose your session today! \n12:30 – 1:30 pm  \nThursday\, March 6: Syllabus Design \nThursday\, March 13: Learning Outcomes – Aligning Your Course & Assessments \nThursday\, March 20: Active Learning & Student Engagement  \n  \nIf you are interested in any of these topics\, please RSVP using the link below. \n  \nRSVP Here!
URL:https://ceils.ucla.edu/event/pedagogical-essentials-for-academic-wellness-learning-outcomes/
LOCATION:Terasaki Life Sciences 5100
END:VEVENT
BEGIN:VEVENT
DTSTART;TZID=America/Los_Angeles:20250312T114000
DTEND;TZID=America/Los_Angeles:20250312T120000
DTSTAMP:20260419T090228
CREATED:20250117T175700Z
LAST-MODIFIED:20250122T215000Z
UID:8857-1741779600-1741780800@ceils.ucla.edu
SUMMARY:CEILS Wellness Walks
DESCRIPTION:Join us for energizing 20-minute walks every Wednesday from 11:40 – 12:00 pm. Whether you stroll the full time\, a bit less\, or more\, this time is for you. You can use this time to connect with CEILS folks about teaching\, hold walking meetings with colleagues\, or put on your headphones and drift away. We’ll send a calendar invite to the emails we already have in our listserv\, but please forward to friends who would love to join! Bring a buddy and come walk with us! \n  \nMeet in the Hershey Hall Front Courtyard at 11:35 am
URL:https://ceils.ucla.edu/event/ceils-wellness-walks-8/
LOCATION:Hershey Hall Front Courtyard\, 612 Charles E Young Dr E\, Los Angeles\, CA\, 90095\, United States
END:VEVENT
BEGIN:VEVENT
DTSTART;TZID=America/Los_Angeles:20250313T123000
DTEND;TZID=America/Los_Angeles:20250313T133000
DTSTAMP:20260419T090228
CREATED:20250117T180322Z
LAST-MODIFIED:20250206T174241Z
UID:8863-1741869000-1741872600@ceils.ucla.edu
SUMMARY:Pedagogical Essentials for Academic Wellness: Aligning Your Course & Assessments
DESCRIPTION:Join our dynamic workshops to supercharge your course design and captivate your students! In just one hour\, you’ll discover effective strategies that enhance your teaching and benefit your students. Whether you’re launching a new course\, revamping an existing one\, or seeking a refresher\, we have exciting topics just for you. Don’t miss out—choose your session today! \n12:30 – 1:30 pm  \nThursday\, March 6: Syllabus Design \nThursday\, March 13: Learning Outcomes – Aligning Your Course & Assessments \nThursday\, March 20: Active Learning & Student Engagement  \n  \nIf you are interested in any of these topics\, please RSVP using the link below. \n  \nRSVP Here!
URL:https://ceils.ucla.edu/event/pedagogical-essentials-for-academic-wellness-syllabus-design/
LOCATION:Terasaki Life Sciences 5100
END:VEVENT
BEGIN:VEVENT
DTSTART;TZID=America/Los_Angeles:20250314T123000
DTEND;TZID=America/Los_Angeles:20250314T140000
DTSTAMP:20260419T090228
CREATED:20240821T184223Z
LAST-MODIFIED:20250312T025752Z
UID:8657-1741955400-1741960800@ceils.ucla.edu
SUMMARY:CEILS Teaching Table for STEM Classrooms: Elevating Teaching Expertise and Invisible Work in Your Merit & Promotion Materials
DESCRIPTION:Join a community of educators in exploring\, innovating\, and collaborating on teaching topics! RSVP to secure your spot today!  \nInstructors across the Life and Physical Sciences are invited to participate. Those who attend a minimum of 4 of the 6 sessions will receive a certificate of completion for their dossier. \nFridays 12:30 – 2 pm\, Terasaki Life Sciences Building 1100 \nLearn more here. \nRSVP here
URL:https://ceils.ucla.edu/event/ceils-teaching-table-for-stem-classrooms-elevating-teaching-expertise-and-invisible-work-in-your-merit-promotion-materials/
LOCATION:1100 Terasaki Life Sciences Building\, 1100 Terasaki Life Sciences Building\, UCLA\, Los Angeles\, CA\, 90095\, United States
END:VEVENT
BEGIN:VEVENT
DTSTART;TZID=America/Los_Angeles:20250317T120000
DTEND;TZID=America/Los_Angeles:20250317T131500
DTSTAMP:20260419T090228
CREATED:20250115T193728Z
LAST-MODIFIED:20250124T164741Z
UID:8835-1742212800-1742217300@ceils.ucla.edu
SUMMARY:Mentor & Mentee Conversations: Fostering Independence in the Research Environment
DESCRIPTION:Join the conversation on research independence! Discover its core elements\, benefits\, and challenges\, and see how these evolve throughout the mentoring relationship. Explore dynamic strategies for mentors and mentees to boost confidence and build trust on the path to research independence! \nJoin us in a collaborative space designed for faculty mentors and graduate students to strengthen their mentoring relationships and co-create actionable plans through engaging case studies and activities. Built on the nationally recognized CIMER curriculum and evidence-based practices\, this is your chance to elevate your mentoring partnership! Light snacks will be provided—feel free to bring your own lunch! \n  \nRSVP Here!
URL:https://ceils.ucla.edu/event/mentor-mentee-conversations-fostering-independence-in-the-research-environment-2/
LOCATION:Hershey Hall 158
END:VEVENT
BEGIN:VEVENT
DTSTART;TZID=America/Los_Angeles:20250319T114000
DTEND;TZID=America/Los_Angeles:20250319T120000
DTSTAMP:20260419T090228
CREATED:20250117T175819Z
LAST-MODIFIED:20250122T214840Z
UID:8859-1742384400-1742385600@ceils.ucla.edu
SUMMARY:CEILS Wellness Walks
DESCRIPTION:Join us for energizing 20-minute walks every Wednesday from 11:40 – 12:00 pm. Whether you stroll the full time\, a bit less\, or more\, this time is for you. You can use this time to connect with CEILS folks about teaching\, hold walking meetings with colleagues\, or put on your headphones and drift away. We’ll send a calendar invite to the emails we already have in our listserv\, but please forward to friends who would love to join! Bring a buddy and come walk with us! \n  \nMeet in the Hershey Hall Front Courtyard at 11:35 am
URL:https://ceils.ucla.edu/event/ceils-wellness-walks-9/
LOCATION:Hershey Hall Front Courtyard\, 612 Charles E Young Dr E\, Los Angeles\, CA\, 90095\, United States
END:VEVENT
BEGIN:VEVENT
DTSTART;TZID=America/Los_Angeles:20250319T140000
DTEND;TZID=America/Los_Angeles:20250319T160000
DTSTAMP:20260419T090228
CREATED:20250312T024122Z
LAST-MODIFIED:20250312T024259Z
UID:8982-1742392800-1742400000@ceils.ucla.edu
SUMMARY:Faculty Orientation for Spring 2025
DESCRIPTION:Are you teaching a course for the first time? Or are you seeking more guidance on what to do to set up your class? Do you have questions about effective ways to welcome students into your class on the first day? Are you concerned about your exams being both fair and rigorous? \nCEILS is here to help! This orientation is specifically designed for folks teaching their first course in Spring 2025\, and anyone teaching your first large enrollment course. In addition to having resources around logistics and BruinLearn setup\, we’ll also discuss course and grading structure\, syllabus design\, how to manage student questions and engagement in large classes\, and getting ready for the first day of class. \nMore info here \nRSVP here
URL:https://ceils.ucla.edu/event/faculty-orientation-for-spring-2025/
LOCATION:Zoom link emailed to RSVPers
CATEGORIES:BTtoP,CEILS Sponsored,CEILS Workshop,Online Event
END:VEVENT
BEGIN:VEVENT
DTSTART;TZID=America/Los_Angeles:20250320T123000
DTEND;TZID=America/Los_Angeles:20250320T133000
DTSTAMP:20260419T090228
CREATED:20250117T180430Z
LAST-MODIFIED:20250206T173947Z
UID:8865-1742473800-1742477400@ceils.ucla.edu
SUMMARY:Pedagogical Essentials for Academic Wellness: Active Learning
DESCRIPTION:Join our dynamic workshops to supercharge your course design and captivate your students! In just one hour\, you’ll discover effective strategies that enhance your teaching and benefit your students. Whether you’re launching a new course\, revamping an existing one\, or seeking a refresher\, we have exciting topics just for you. Don’t miss out—choose your session today! \n12:30 – 1:30 pm  \nThursday\, March 6: Syllabus Design \nThursday\, March 13: Learning Outcomes: Aligning Your Course & Assessments \nThursday\, March 20: Active Learning & Student Engagement  \n  \nIf you are interested in any of these topics\, please RSVP using the link below. \n  \nRSVP Here!
URL:https://ceils.ucla.edu/event/pedagogical-essentials-for-academic-wellness-active-learning/
LOCATION:Terasaki Life Sciences 5100
END:VEVENT
BEGIN:VEVENT
DTSTART;TZID=America/Los_Angeles:20250324T120000
DTEND;TZID=America/Los_Angeles:20250324T131500
DTSTAMP:20260419T090228
CREATED:20250124T170910Z
LAST-MODIFIED:20250124T170910Z
UID:8903-1742817600-1742822100@ceils.ucla.edu
SUMMARY:Mentor & Mentee Conversations: Fostering Academic Wellness
DESCRIPTION:Dive into essential topics that empower mentors and mentees to enhance communication and support in time management\, prioritization\, organization\, and work-life integration. Equip yourself with skills that reduce stress and promote wellness! \nJoin us in a collaborative space designed for faculty mentors and graduate students to strengthen their mentoring relationships and co-create actionable plans through engaging case studies and activities. Built on the nationally recognized CIMER curriculum and evidence-based practices\, this is your chance to elevate your mentoring partnership! Light snacks will be provided—feel free to bring your own lunch! \n  \nRSVP Here
URL:https://ceils.ucla.edu/event/mentor-mentee-conversations-fostering-academic-wellness-3/
LOCATION:Hershey Hall 158
END:VEVENT
END:VCALENDAR