
BEGIN:VCALENDAR
VERSION:2.0
PRODID:-//Center for Education, Innovation, and Learning in the Sciences - ECPv6.15.20//NONSGML v1.0//EN
CALSCALE:GREGORIAN
METHOD:PUBLISH
X-ORIGINAL-URL:https://ceils.ucla.edu
X-WR-CALDESC:Events for Center for Education, Innovation, and Learning in the Sciences
REFRESH-INTERVAL;VALUE=DURATION:PT1H
X-Robots-Tag:noindex
X-PUBLISHED-TTL:PT1H
BEGIN:VTIMEZONE
TZID:America/Los_Angeles
BEGIN:DAYLIGHT
TZOFFSETFROM:-0800
TZOFFSETTO:-0700
TZNAME:PDT
DTSTART:20240310T100000
END:DAYLIGHT
BEGIN:STANDARD
TZOFFSETFROM:-0700
TZOFFSETTO:-0800
TZNAME:PST
DTSTART:20241103T090000
END:STANDARD
BEGIN:DAYLIGHT
TZOFFSETFROM:-0800
TZOFFSETTO:-0700
TZNAME:PDT
DTSTART:20250309T100000
END:DAYLIGHT
BEGIN:STANDARD
TZOFFSETFROM:-0700
TZOFFSETTO:-0800
TZNAME:PST
DTSTART:20251102T090000
END:STANDARD
BEGIN:DAYLIGHT
TZOFFSETFROM:-0800
TZOFFSETTO:-0700
TZNAME:PDT
DTSTART:20260308T100000
END:DAYLIGHT
BEGIN:STANDARD
TZOFFSETFROM:-0700
TZOFFSETTO:-0800
TZNAME:PST
DTSTART:20261101T090000
END:STANDARD
END:VTIMEZONE
BEGIN:VEVENT
DTSTART;TZID=America/Los_Angeles:20250205T114000
DTEND;TZID=America/Los_Angeles:20250205T120000
DTSTAMP:20260419T104638
CREATED:20250117T175034Z
LAST-MODIFIED:20250122T215158Z
UID:8846-1738755600-1738756800@ceils.ucla.edu
SUMMARY:CEILS Wellness Walks
DESCRIPTION:Join us for energizing 20-minute walks every Wednesday from 11:40 – 12:00 pm. Whether you stroll the full time\, a bit less\, or more\, this time is for you. You can use this time to connect with CEILS folks about teaching\, hold walking meetings with colleagues\, or put on your headphones and drift away. We’ll send a calendar invite to the emails we already have in our listserv\, but please forward to friends who would love to join! Bring a buddy and come walk with us! \n  \nMeet in the Hershey Hall Front Courtyard at 11:35 am
URL:https://ceils.ucla.edu/event/ceils-wellness-walks-3/
LOCATION:Hershey Hall Front Courtyard\, 612 Charles E Young Dr E\, Los Angeles\, CA\, 90095\, United States
END:VEVENT
BEGIN:VEVENT
DTSTART;TZID=America/Los_Angeles:20250206T123000
DTEND;TZID=America/Los_Angeles:20250206T133000
DTSTAMP:20260419T104638
CREATED:20250115T192224Z
LAST-MODIFIED:20250122T212915Z
UID:8823-1738845000-1738848600@ceils.ucla.edu
SUMMARY:Winter Quarter Wellness Book Club
DESCRIPTION:Join us for an exciting CEILS Winter Quarter Wellness Book Club! We invite instructors and academic staff to explore strategies\, action plan\, and build a community of support to establish healthy academic learning environments for instructor and student wellbeing.  \nIf you plan to participate\, please RSVP by January 27th to receive a free copy of the highly recommended “Set Boundaries\, Find Peace” . Lunch will also be provided for those who RSVP.   \nWe hope to see you there! \n12:30 – 1:30 pm (lunch provided for those who RSVP) \nThursday Feb 6: Chapters 1- 3 *Understanding Boundaries* \nThursday Feb 13: Chapter 4 – 6 *Communicating Boundaries* \nThursday Feb 27: Chapter 7\, 9\, & 13 *Setting & Honoring Boundaries* \n  \nRSVP Here!
URL:https://ceils.ucla.edu/event/winter-quarter-wellness-book-club/
LOCATION:Terasaki Life Sciences 5100
END:VEVENT
BEGIN:VEVENT
DTSTART;TZID=America/Los_Angeles:20250212T114000
DTEND;TZID=America/Los_Angeles:20250212T120000
DTSTAMP:20260419T104638
CREATED:20250117T175126Z
LAST-MODIFIED:20250122T215242Z
UID:8848-1739360400-1739361600@ceils.ucla.edu
SUMMARY:CEILS Wellness Walks
DESCRIPTION:Join us for energizing 20-minute walks every Wednesday from 11:40 – 12:00 pm. Whether you stroll the full time\, a bit less\, or more\, this time is for you. You can use this time to connect with CEILS folks about teaching\, hold walking meetings with colleagues\, or put on your headphones and drift away. We’ll send a calendar invite to the emails we already have in our listserv\, but please forward to friends who would love to join! Bring a buddy and come walk with us! \n  \nMeet in the Hershey Hall Front Courtyard at 11:35 am
URL:https://ceils.ucla.edu/event/ceils-wellness-walks-4/
LOCATION:Hershey Hall Front Courtyard\, 612 Charles E Young Dr E\, Los Angeles\, CA\, 90095\, United States
END:VEVENT
BEGIN:VEVENT
DTSTART;TZID=America/Los_Angeles:20250213T123000
DTEND;TZID=America/Los_Angeles:20250213T133000
DTSTAMP:20260419T104638
CREATED:20250115T192353Z
LAST-MODIFIED:20250122T213256Z
UID:8825-1739449800-1739453400@ceils.ucla.edu
SUMMARY:Winter Quarter Wellness Book Club
DESCRIPTION:Join us for an exciting CEILS Winter Quarter Wellness Book Club! We invite instructors and academic staff to explore strategies\, action plan\, and build a community of support to establish healthy academic learning environments for instructor and student wellbeing.  \nIf you plan to participate\, please RSVP by January 27th to receive a free copy of the highly recommended “Set Boundaries\, Find Peace” . Lunch will also be provided for those who RSVP.   \nWe hope to see you there! \n12:30 – 1:30 pm (lunch provided for those who RSVP) \nThursday Feb 6: Chapters 1- 3 *Understanding Boundaries* \nThursday Feb 13: Chapter 4 – 6 *Communicating Boundaries* \nThursday Feb 27: Chapter 7\, 9\, & 13 *Setting & Honoring Boundaries* \n  \nRSVP Here!
URL:https://ceils.ucla.edu/event/winter-quarter-wellness-book-club-2/
LOCATION:Terasaki Life Sciences 5100
END:VEVENT
BEGIN:VEVENT
DTSTART;TZID=America/Los_Angeles:20250214T123000
DTEND;TZID=America/Los_Angeles:20250214T140000
DTSTAMP:20260419T104638
CREATED:20240821T184056Z
LAST-MODIFIED:20240828T173258Z
UID:8655-1739536200-1739541600@ceils.ucla.edu
SUMMARY:CEILS Teaching Table for STEM Classrooms: Thinking Outside of the Box - New and Emerging Scholarship and Technologies to Explore
DESCRIPTION:Join a community of educators in exploring\, innovating\, and collaborating on teaching topics! RSVP to secure your spot today!  \nInstructors across the Life and Physical Sciences are invited to participate. Those who attend a minimum of 4 of the 6 sessions will receive a certificate of completion for their dossier. \nFridays 12:30 – 2 pm\, Terasaki Life Sciences Building 1100
URL:https://ceils.ucla.edu/event/ceils-teaching-table-for-stem-classrooms-thinking-outside-of-the-box-new-and-emerging-scholarship-and-technologies-to-explore/
LOCATION:1100 Terasaki Life Sciences Building\, 1100 Terasaki Life Sciences Building\, UCLA\, Los Angeles\, CA\, 90095\, United States
END:VEVENT
BEGIN:VEVENT
DTSTART;VALUE=DATE:20250219
DTEND;VALUE=DATE:20250222
DTSTAMP:20260419T104638
CREATED:20250117T180550Z
LAST-MODIFIED:20250117T180550Z
UID:8867-1739923200-1740182399@ceils.ucla.edu
SUMMARY:Teaching Professor Symposium
DESCRIPTION:
URL:https://ceils.ucla.edu/event/teaching-professor-symposium/
END:VEVENT
BEGIN:VEVENT
DTSTART;TZID=America/Los_Angeles:20250219T114000
DTEND;TZID=America/Los_Angeles:20250219T120000
DTSTAMP:20260419T104638
CREATED:20250117T175322Z
LAST-MODIFIED:20250122T215043Z
UID:8851-1739965200-1739966400@ceils.ucla.edu
SUMMARY:CEILS Wellness Walks
DESCRIPTION:Join us for energizing 20-minute walks every Wednesday from 11:40 – 12:00 pm. Whether you stroll the full time\, a bit less\, or more\, this time is for you. You can use this time to connect with CEILS folks about teaching\, hold walking meetings with colleagues\, or put on your headphones and drift away. We’ll send a calendar invite to the emails we already have in our listserv\, but please forward to friends who would love to join! Bring a buddy and come walk with us! \n  \nMeet in the Hershey Hall Front Courtyard at 11:35 am
URL:https://ceils.ucla.edu/event/ceils-wellness-walks-5/
LOCATION:Hershey Hall Front Courtyard\, 612 Charles E Young Dr E\, Los Angeles\, CA\, 90095\, United States
END:VEVENT
BEGIN:VEVENT
DTSTART;VALUE=DATE:20250220
DTEND;VALUE=DATE:20250221
DTSTAMP:20260419T104638
CREATED:20250117T180827Z
LAST-MODIFIED:20250117T180827Z
UID:8869-1740009600-1740095999@ceils.ucla.edu
SUMMARY:Teaching Professor Symposium - Faculty Lightning Talks
DESCRIPTION:
URL:https://ceils.ucla.edu/event/teaching-professor-symposium-faculty-lightning-talks/
END:VEVENT
BEGIN:VEVENT
DTSTART;TZID=America/Los_Angeles:20250226T114000
DTEND;TZID=America/Los_Angeles:20250226T120000
DTSTAMP:20260419T104638
CREATED:20250117T175412Z
LAST-MODIFIED:20250122T215354Z
UID:8853-1740570000-1740571200@ceils.ucla.edu
SUMMARY:CEILS Wellness Walks
DESCRIPTION:Join us for energizing 20-minute walks every Wednesday from 11:40 – 12:00 pm. Whether you stroll the full time\, a bit less\, or more\, this time is for you. You can use this time to connect with CEILS folks about teaching\, hold walking meetings with colleagues\, or put on your headphones and drift away. We’ll send a calendar invite to the emails we already have in our listserv\, but please forward to friends who would love to join! Bring a buddy and come walk with us! \n  \nMeet in the Hershey Hall Front Courtyard at 11:35 am
URL:https://ceils.ucla.edu/event/ceils-wellness-walks-6/
LOCATION:Hershey Hall Front Courtyard\, 612 Charles E Young Dr E\, Los Angeles\, CA\, 90095\, United States
END:VEVENT
BEGIN:VEVENT
DTSTART;TZID=America/Los_Angeles:20250227T123000
DTEND;TZID=America/Los_Angeles:20250227T133000
DTSTAMP:20260419T104638
CREATED:20250115T192600Z
LAST-MODIFIED:20250122T213603Z
UID:8829-1740659400-1740663000@ceils.ucla.edu
SUMMARY:Winter Quarter Wellness Book Club
DESCRIPTION:Join us for an exciting CEILS Winter Quarter Wellness Book Club! We invite instructors and academic staff to explore strategies\, action plan\, and build a community of support to establish healthy academic learning environments for instructor and student wellbeing.  \nIf you plan to participate\, please RSVP by January 27th to receive a free copy of the highly recommended “Set Boundaries\, Find Peace” . Lunch will also be provided for those who RSVP.   \nWe hope to see you there! \n12:30 – 1:30 pm (lunch provided for those who RSVP) \nThursday Feb 6: Chapters 1- 3 *Understanding Boundaries* \nThursday Feb 13: Chapter 4 – 6 *Communicating Boundaries* \nThursday Feb 27: Chapter 7\, 9\, & 13 *Setting & Honoring Boundaries* \n  \nRSVP Here!
URL:https://ceils.ucla.edu/event/winter-quarter-wellness-book-club-4/
LOCATION:Terasaki Life Sciences 5100
END:VEVENT
END:VCALENDAR