
BEGIN:VCALENDAR
VERSION:2.0
PRODID:-//Center for Education, Innovation, and Learning in the Sciences - ECPv6.15.20//NONSGML v1.0//EN
CALSCALE:GREGORIAN
METHOD:PUBLISH
X-WR-CALNAME:Center for Education, Innovation, and Learning in the Sciences
X-ORIGINAL-URL:https://ceils.ucla.edu
X-WR-CALDESC:Events for Center for Education, Innovation, and Learning in the Sciences
REFRESH-INTERVAL;VALUE=DURATION:PT1H
X-Robots-Tag:noindex
X-PUBLISHED-TTL:PT1H
BEGIN:VTIMEZONE
TZID:America/Los_Angeles
BEGIN:DAYLIGHT
TZOFFSETFROM:-0800
TZOFFSETTO:-0700
TZNAME:PDT
DTSTART:20230312T100000
END:DAYLIGHT
BEGIN:STANDARD
TZOFFSETFROM:-0700
TZOFFSETTO:-0800
TZNAME:PST
DTSTART:20231105T090000
END:STANDARD
BEGIN:DAYLIGHT
TZOFFSETFROM:-0800
TZOFFSETTO:-0700
TZNAME:PDT
DTSTART:20240310T100000
END:DAYLIGHT
BEGIN:STANDARD
TZOFFSETFROM:-0700
TZOFFSETTO:-0800
TZNAME:PST
DTSTART:20241103T090000
END:STANDARD
BEGIN:DAYLIGHT
TZOFFSETFROM:-0800
TZOFFSETTO:-0700
TZNAME:PDT
DTSTART:20250309T100000
END:DAYLIGHT
BEGIN:STANDARD
TZOFFSETFROM:-0700
TZOFFSETTO:-0800
TZNAME:PST
DTSTART:20251102T090000
END:STANDARD
END:VTIMEZONE
BEGIN:VEVENT
DTSTART;TZID=America/Los_Angeles:20240409T123000
DTEND;TZID=America/Los_Angeles:20240409T133000
DTSTAMP:20260420T040549
CREATED:20240306T194951Z
LAST-MODIFIED:20240401T165357Z
UID:8235-1712665800-1712669400@ceils.ucla.edu
SUMMARY:Conversations on Equity and Justice in Teaching: Trauma-Informed Teaching
DESCRIPTION:CEILS invites you to join us for “Conversations on Equity and Justice” this Spring Quarter. Our overall goal is to create a communal space for faculty\, teaching-staff\, postdocs\, graduate students to discuss\, learn\, and consider teaching strategies to support themselves and their students in the classroom. These conversations are topic-based and you can drop in for one or come for all. Light refreshments will be provided! \n  \n\nTuesday\, April 9 @ 12:30 pm – 1:30 pm: Our Brains\, Emotions\, and Learning: Eight Principles of Trauma-Informed Teaching by Mays Imad\nTuesday\, April 16 @ 12:30 pm – 1:30 pm: How Trauma-Informed Care Principles Can Contribute to Academic Success for Students in Hispanic-Serving Institutions by Joy Patton and Lauren Cortez\nTuesday\, April 23 @ 12:30 pm – 1:30 pm: Toward a Theory of Culturally Relevant Pedagogy by Gloria Ladson-Billings\n\n  \n1100 Terasaki Life Sciences Building\, UCLA\, Los Angeles\, CA\, United States \n  \nClick here to RSVP!
URL:https://ceils.ucla.edu/event/conversations-on-equity-and-justice/
LOCATION:1100 Terasaki Life Sciences Building\, 1100 Terasaki Life Sciences Building\, UCLA\, Los Angeles\, CA\, 90095\, United States
END:VEVENT
BEGIN:VEVENT
DTSTART;TZID=America/Los_Angeles:20240411T123000
DTEND;TZID=America/Los_Angeles:20240411T140000
DTSTAMP:20260420T040549
CREATED:20240306T192952Z
LAST-MODIFIED:20240327T173542Z
UID:8220-1712838600-1712844000@ceils.ucla.edu
SUMMARY:Learning Community: UCLA Early Career Faculty in the Sciences-"Equitable Grading Strategies for Assessment and Feedback"
DESCRIPTION:The CEILS team invites you to carve out a little time to gather in the community and get support from each other on all things related to teaching here at UCLA. This community is designed to support early career faculty across disciplines in the sciences who have joined UCLA within the past 5 years. Lunch provided! \nRSVP HERE
URL:https://ceils.ucla.edu/event/learning-community-ucla-early-career-faculty-in-the-sciences-2/
LOCATION:1100 Terasaki Life Sciences Building\, 1100 Terasaki Life Sciences Building\, UCLA\, Los Angeles\, CA\, 90095\, United States
END:VEVENT
BEGIN:VEVENT
DTSTART;TZID=America/Los_Angeles:20240416T123000
DTEND;TZID=America/Los_Angeles:20240416T133000
DTSTAMP:20260420T040549
CREATED:20240306T195256Z
LAST-MODIFIED:20240401T165436Z
UID:8237-1713270600-1713274200@ceils.ucla.edu
SUMMARY:Conversations on Equity and Justice in Teaching: Trauma-Informed Care Principles in HSI's
DESCRIPTION:CEILS invites you to join us for “Conversations on Equity and Justice” this Spring Quarter. Our overall goal is to create a communal space for faculty\, teaching-staff\, postdocs\, graduate students to discuss\, learn\, and consider teaching strategies to support themselves and their students in the classroom. These conversations are topic-based and you can drop in for one or come for all. Light refreshments will be provided! \n\nTuesday\, April 9 @ 12:30 pm – 1:30 pm: Our Brains\, Emotions\, and Learning: Eight Principles of Trauma-Informed Teaching by Mays Imad\nTuesday\, April 16 @ 12:30 pm – 1:30 pm: How Trauma-Informed Care Principles Can Contribute to Academic Success for Students in Hispanic-Serving Institutions by Joy Patton and Lauren Cortez\nTuesday\, April 23 @ 12:30 pm – 1:30 pm: Toward a Theory of Culturally Relevant Pedagogy by Gloria Ladson-Billings\n\n1100 Terasaki Life Sciences Building\, UCLA\, Los Angeles\, CA\, United States \nClick here to RSVP!
URL:https://ceils.ucla.edu/event/conversations-on-equity-and-justice-2/
LOCATION:1100 Terasaki Life Sciences Building\, 1100 Terasaki Life Sciences Building\, UCLA\, Los Angeles\, CA\, 90095\, United States
END:VEVENT
BEGIN:VEVENT
DTSTART;TZID=America/Los_Angeles:20240423T123000
DTEND;TZID=America/Los_Angeles:20240423T133000
DTSTAMP:20260420T040549
CREATED:20240306T195801Z
LAST-MODIFIED:20240401T165504Z
UID:8239-1713875400-1713879000@ceils.ucla.edu
SUMMARY:Conversations on Equity and Justice in Teaching: Culturally Relevant Pedagogy
DESCRIPTION:CEILS invites you to join us for “Conversations on Equity and Justice” this Spring Quarter. Our overall goal is to create a communal space for faculty\, teaching-staff\, postdocs\, graduate students to discuss\, learn\, and consider teaching strategies to support themselves and their students in the classroom. These conversations are topic-based and you can drop in for one or come for all. Light refreshments will be provided! \n\nTuesday\, April 9 @ 12:30 pm – 1:30 pm: Our Brains\, Emotions\, and Learning: Eight Principles of Trauma-Informed Teaching by Mays Imad\nTuesday\, April 16 @ 12:30 pm – 1:30 pm: How Trauma-Informed Care Principles Can Contribute to Academic Success for Students in Hispanic-Serving Institutions by Joy Patton and Lauren Cortez\nTuesday\, April 23 @ 12:30 pm – 1:30 pm: Toward a Theory of Culturally Relevant Pedagogy by Gloria Ladson-Billings\n\n1100 Terasaki Life Sciences Building\, UCLA\, Los Angeles\, CA\, United States \nClick here to RSVP!
URL:https://ceils.ucla.edu/event/conversations-on-equity-and-justice-3/
LOCATION:1100 Terasaki Life Sciences Building\, 1100 Terasaki Life Sciences Building\, UCLA\, Los Angeles\, CA\, 90095\, United States
END:VEVENT
END:VCALENDAR