
BEGIN:VCALENDAR
VERSION:2.0
PRODID:-//Center for Education, Innovation, and Learning in the Sciences - ECPv6.15.20//NONSGML v1.0//EN
CALSCALE:GREGORIAN
METHOD:PUBLISH
X-WR-CALNAME:Center for Education, Innovation, and Learning in the Sciences
X-ORIGINAL-URL:https://ceils.ucla.edu
X-WR-CALDESC:Events for Center for Education, Innovation, and Learning in the Sciences
REFRESH-INTERVAL;VALUE=DURATION:PT1H
X-Robots-Tag:noindex
X-PUBLISHED-TTL:PT1H
BEGIN:VTIMEZONE
TZID:America/Los_Angeles
BEGIN:DAYLIGHT
TZOFFSETFROM:-0800
TZOFFSETTO:-0700
TZNAME:PDT
DTSTART:20220313T100000
END:DAYLIGHT
BEGIN:STANDARD
TZOFFSETFROM:-0700
TZOFFSETTO:-0800
TZNAME:PST
DTSTART:20221106T090000
END:STANDARD
BEGIN:DAYLIGHT
TZOFFSETFROM:-0800
TZOFFSETTO:-0700
TZNAME:PDT
DTSTART:20230312T100000
END:DAYLIGHT
BEGIN:STANDARD
TZOFFSETFROM:-0700
TZOFFSETTO:-0800
TZNAME:PST
DTSTART:20231105T090000
END:STANDARD
BEGIN:DAYLIGHT
TZOFFSETFROM:-0800
TZOFFSETTO:-0700
TZNAME:PDT
DTSTART:20240310T100000
END:DAYLIGHT
BEGIN:STANDARD
TZOFFSETFROM:-0700
TZOFFSETTO:-0800
TZNAME:PST
DTSTART:20241103T090000
END:STANDARD
END:VTIMEZONE
BEGIN:VEVENT
DTSTART;TZID=America/Los_Angeles:20231201T080000
DTEND;TZID=America/Los_Angeles:20231221T170000
DTSTAMP:20260420T105114
CREATED:20231130T211805Z
LAST-MODIFIED:20231130T211805Z
UID:8118-1701417600-1703178000@ceils.ucla.edu
SUMMARY:UCLA Bruin Learn Training December Sessions
DESCRIPTION:Register or join us for live training over Zoom. For specific questions and 1:1 guidance\, drop in during daily office hours. \nUCLA Bruin Learn Training Sessions\n \nSession Details and Registration Links\n\n\n\nSession\n\n\nAudience\n\n\nDay\n\n\nDate\n\n\nTime (PST)\n\n\nRegistration Link (includes event description)\n\n\n\n\n\nPeer review and group member evaluation using FeedbackFruits\nFaculty/TAs/Staff\nWednesday\n12/6/2023\n10:00 – 11:00 am\nRegisterLinks to an external site.\n\n\nEnd-of-Term Grading in Bruin Learn and MyUCLA\nFaculty/TAs/Staff\nThursday\n12/7/23\n10:00 – 11:00 am\nRegisterLinks to an external site.\n\n\nQuick Start: Preparing to Teach with Bruin Learn\nFaculty/TAs\nMonday\n12/11/23\n12:00 – 1:30 pm\nRegisterLinks to an external site.\n\n\nEngage\, Evaluate\, and Elevate: Boost Classroom Interaction with iClicker Cloud Polling Tools\nFaculty/TAs/Staff\nTuesday\n12/12/23\n10:00 – 11:30 am\nRegisterLinks to an external site.\n\n\nTracking student progress and understanding results in Peerceptiv (peer review)\nFaculty/TAs/Staff\nTuesday\n12/12/23\n1:00 – 2:00 pm\nRegisterLinks to an external site.\n\n\nEnd-of-Term Grading in Bruin Learn and MyUCLA\nFaculty/TAs/Staff\nWednesday\n12/13/23\n12:00 – 1:00 pm\nRegisterLinks to an external site.\n\n\nQuick Start: Preparing to Teach with Bruin Learn\nFaculty/TAs\nThursday\n12/14/23\n10:00 – 11:30 am\nRegisterLinks to an external site.\n\n\nEnd-of-Term Grading in Bruin Learn and MyUCLA\nFaculty/TAs/Staff\nFriday\n12/15/23\n10:00 – 11:00 am\nRegisterLinks to an external site.\n\n\nQuick Start: Preparing to Teach with Bruin Learn\nFaculty/TAs\nMonday\n12/18/23\n12:00 – 1:30 pm\nRegisterLinks to an external site.\n\n\nEnd-of-Term Grading in Bruin Learn and MyUCLA\nFaculty/TAs/Staff\nTuesday\n12/19/23\n10:00 – 11:00 am\nRegisterLinks to an external site.\n\n\nEngage\, Evaluate\, and Elevate: Boost Classroom Interaction with iClicker Cloud Polling Tools\nFaculty/TAs/Staff\nWednesday\n12/20/23\n10:00 – 11:30 am\nRegisterLinks to an external site.\n\n\nEnd-of-Term Grading in Bruin Learn and MyUCLA\nFaculty/TAs/Staff\nThursday\n12/21/23\n12:00 – 1:00 pm\nRegisterLinks to an external site.\n\n\nQuick Start: Preparing to Teach with Bruin Learn\nFaculty/TAs\nFriday\n12/22/23\n10:00 – 11:30 am\nRegisterLinks to an external site.\n\n\n\n\nOther UCLA Training Events\n\nUCLA Center for the Advancement of Teaching Events\nUCLA Center of Education Innovation & Learning in the Sciences (CEILS) Events\nUCLA Disabilities & Computing Program Events & Resources\nUCLA Online Teaching & Learning
URL:https://ceils.ucla.edu/event/ucla-bruin-learn-training-december-sessions/
LOCATION:Zoom
CATEGORIES:Online Event,UCLA
END:VEVENT
BEGIN:VEVENT
DTSTART;TZID=America/Los_Angeles:20231208T093000
DTEND;TZID=America/Los_Angeles:20231208T110000
DTSTAMP:20260420T105114
CREATED:20231130T211333Z
LAST-MODIFIED:20231130T211333Z
UID:8116-1702027800-1702033200@ceils.ucla.edu
SUMMARY:Get Your Syllabus Ready for Winter Quarter!
DESCRIPTION:Get Your Syllabus Ready for Winter Quarter! \nJoin CEILS Director\, Rachel Kennison and Senior Associate Director\, Jess Gregg\, for a virtual workshop on Inclusive Syllabus Design. We will share some examples\, strategies\, and resources to support you in getting your syllabus created. \nDecember 8th\, 2023 | 9:30 – 11am \nVirtual on Zoom (link will be provided after RSVP) \nView our CEILS guide on Designing an Inclusive Syllabus here.
URL:https://ceils.ucla.edu/event/get-your-syllabus-ready-for-winter-quarter/
LOCATION:Zoom
CATEGORIES:CEILS Sponsored,Online Event,UCLA
END:VEVENT
BEGIN:VEVENT
DTSTART;TZID=America/Los_Angeles:20231208T140000
DTEND;TZID=America/Los_Angeles:20231208T160000
DTSTAMP:20260420T105114
CREATED:20231130T211156Z
LAST-MODIFIED:20231130T211156Z
UID:8114-1702044000-1702051200@ceils.ucla.edu
SUMMARY:End of Quarter CEILS Happy Hour
DESCRIPTION:End of Quarter \nCEILS Happy Hour \nFriday\, December 8th | 2:00 – 4:00pm \nHershey Hall South Courtyard \nYou’re invited to celebrate the end of the Fall Quarter with food\, refreshments\, and quality time together! Please join us anytime between 2:00 – 4:00pm. RSVP at the link below!
URL:https://ceils.ucla.edu/event/end-of-quarter-ceils-happy-hour/
LOCATION:Hershey Hall South Courtyard
CATEGORIES:CEILS Sponsored
END:VEVENT
END:VCALENDAR