
BEGIN:VCALENDAR
VERSION:2.0
PRODID:-//Center for Education, Innovation, and Learning in the Sciences - ECPv6.15.20//NONSGML v1.0//EN
CALSCALE:GREGORIAN
METHOD:PUBLISH
X-WR-CALNAME:Center for Education, Innovation, and Learning in the Sciences
X-ORIGINAL-URL:https://ceils.ucla.edu
X-WR-CALDESC:Events for Center for Education, Innovation, and Learning in the Sciences
REFRESH-INTERVAL;VALUE=DURATION:PT1H
X-Robots-Tag:noindex
X-PUBLISHED-TTL:PT1H
BEGIN:VTIMEZONE
TZID:America/Los_Angeles
BEGIN:DAYLIGHT
TZOFFSETFROM:-0800
TZOFFSETTO:-0700
TZNAME:PDT
DTSTART:20220313T100000
END:DAYLIGHT
BEGIN:STANDARD
TZOFFSETFROM:-0700
TZOFFSETTO:-0800
TZNAME:PST
DTSTART:20221106T090000
END:STANDARD
BEGIN:DAYLIGHT
TZOFFSETFROM:-0800
TZOFFSETTO:-0700
TZNAME:PDT
DTSTART:20230312T100000
END:DAYLIGHT
BEGIN:STANDARD
TZOFFSETFROM:-0700
TZOFFSETTO:-0800
TZNAME:PST
DTSTART:20231105T090000
END:STANDARD
BEGIN:DAYLIGHT
TZOFFSETFROM:-0800
TZOFFSETTO:-0700
TZNAME:PDT
DTSTART:20240310T100000
END:DAYLIGHT
BEGIN:STANDARD
TZOFFSETFROM:-0700
TZOFFSETTO:-0800
TZNAME:PST
DTSTART:20241103T090000
END:STANDARD
END:VTIMEZONE
BEGIN:VEVENT
DTSTART;TZID=America/Los_Angeles:20230713T130000
DTEND;TZID=America/Los_Angeles:20230713T143000
DTSTAMP:20260420T211058
CREATED:20230627T173824Z
LAST-MODIFIED:20230627T173824Z
UID:7809-1689253200-1689258600@ceils.ucla.edu
SUMMARY:DBER-SiT event\, Education Career Pathways: A virtual panel event
DESCRIPTION:DBER-SiT event\, Education Career Pathways: A virtual panel event \nThe panel will be hosted by the DBER-SiT Professional Development team via Zoom on Thursday July 13 2023\, 1pm-2:30pm PT / 4pm-5:30pm ET. The goal of the event is to highlight different education-focused career pathways available to those with a life sciences and/or DBER background. Some of the jobs they’ll highlight include teaching/research faculty positions\, community outreach-focused roles\, directors at centers for teaching & learning\, and education technology developers. \nThe 1st hour of the event will consist of a structured panel discussion\, followed by an open Q&A with the audience. If you are interested in attending the event\, please RSVP here. \nFeel free to contact Zack (Zachary…@colorado.edu) and Ming (min…@mit.edu) if you have any questions about this or future events.
URL:https://ceils.ucla.edu/event/dber-sit-event-education-career-pathways-a-virtual-panel-event/
LOCATION:Zoom
CATEGORIES:Online Event,SABER
END:VEVENT
BEGIN:VEVENT
DTSTART;VALUE=DATE:20230719
DTEND;VALUE=DATE:20230721
DTSTAMP:20260420T211058
CREATED:20230502T211647Z
LAST-MODIFIED:20230502T211647Z
UID:7729-1689724800-1689897599@ceils.ucla.edu
SUMMARY:Systemic Change for an Inclusive and Diverse Faculty
DESCRIPTION:“Systemic Change for an Inclusive and Diverse Faculty” \n\n\n\n\n\n\n\n\n\n\n\n\n\n\n\nJoin us at the NSF Eddie Bernice Johnson INCLUDES Aspire Alliance Summit. \n  \nAre you striving for a more diverse and inclusive faculty at your institution? Is your research or project focused on these issues? If so\, then join us at the NSF Eddie Bernice Johnson INCLUDES Aspire Alliance Summit on July 19 – 20\, 2023. \nThe theme of the summit is Systemic Change for an Inclusive and Diverse Faculty. The Summit\, held at UCLA’s Luskin Center\, will convene members of the broader STEM ecosystem to explore key issues in advancing faculty diversity and inclusion through the sharing of emergent research and promising practices\, community dialogue and collaboration\, and intentional network building. We welcome any scholar\, practitioner\, or institutional decision-maker to join us. We are especially interested in evidence-based practices from the NSF INCLUDES Aspire Alliance community\, and the broader NSF INCLUDES\, AGEP\, and ADVANCE communities. This is an opportunity for us to think together about how we might advance a more inclusive and diverse higher education faculty at 2 and 4-year institutions. We look forward to learning more about your work at the Aspire Summit. \nView the full agenda and register here. \nContact Jess Gregg\, CEILS Senior Associate Director and one of the PI’s for the Aspire Alliance\, at jessgregg@ceils.ucla.edu with any questions or for additional information. You can learn more about the Aspire Alliance here.
URL:https://ceils.ucla.edu/event/systemic-change-for-an-inclusive-and-diverse-faculty/
LOCATION:UCLA Luskin Center
CATEGORIES:On Campus Event
END:VEVENT
BEGIN:VEVENT
DTSTART;TZID=America/Los_Angeles:20230721T100000
DTEND;TZID=America/Los_Angeles:20230721T120000
DTSTAMP:20260420T211058
CREATED:20230718T215359Z
LAST-MODIFIED:20230718T215359Z
UID:7916-1689933600-1689940800@ceils.ucla.edu
SUMMARY:True North Intercultural presents Facilitating Intercultural Learning Professional Development Program Info Session
DESCRIPTION:Facilitating Intercultural Learning Professional Development Program Info Session: July 21st \nWould you like to better integrate intercultural learning into your courses\, experiential learning programs\, orientations\, or other aspects of your work? If so\, this information session is for you! Come learn more about Facilitating Intercultural Learning\, the professional development program for higher education faculty and staff that helps you: (1) develop your own intercultural competence\, and (2) learn how to design and facilitate intercultural learning. \nWhat:  Facilitating Intercultural Learning Information Session \nDate:  Friday\, July 21st \nTime:  12pm Central (1pm Eastern\, 11am Mountain\, 10am Pacific) \nRegister Here:  www.truenorthintercultural.com/fil-info-session
URL:https://ceils.ucla.edu/event/true-north-intercultural-presents-facilitating-intercultural-learning-professional-development-program-info-session/
LOCATION:Zoom
CATEGORIES:Online Event
END:VEVENT
END:VCALENDAR