
BEGIN:VCALENDAR
VERSION:2.0
PRODID:-//Center for Education, Innovation, and Learning in the Sciences - ECPv6.15.20//NONSGML v1.0//EN
CALSCALE:GREGORIAN
METHOD:PUBLISH
X-ORIGINAL-URL:https://ceils.ucla.edu
X-WR-CALDESC:Events for Center for Education, Innovation, and Learning in the Sciences
REFRESH-INTERVAL;VALUE=DURATION:PT1H
X-Robots-Tag:noindex
X-PUBLISHED-TTL:PT1H
BEGIN:VTIMEZONE
TZID:America/Los_Angeles
BEGIN:DAYLIGHT
TZOFFSETFROM:-0800
TZOFFSETTO:-0700
TZNAME:PDT
DTSTART:20220313T100000
END:DAYLIGHT
BEGIN:STANDARD
TZOFFSETFROM:-0700
TZOFFSETTO:-0800
TZNAME:PST
DTSTART:20221106T090000
END:STANDARD
BEGIN:DAYLIGHT
TZOFFSETFROM:-0800
TZOFFSETTO:-0700
TZNAME:PDT
DTSTART:20230312T100000
END:DAYLIGHT
BEGIN:STANDARD
TZOFFSETFROM:-0700
TZOFFSETTO:-0800
TZNAME:PST
DTSTART:20231105T090000
END:STANDARD
BEGIN:DAYLIGHT
TZOFFSETFROM:-0800
TZOFFSETTO:-0700
TZNAME:PDT
DTSTART:20240310T100000
END:DAYLIGHT
BEGIN:STANDARD
TZOFFSETFROM:-0700
TZOFFSETTO:-0800
TZNAME:PST
DTSTART:20241103T090000
END:STANDARD
END:VTIMEZONE
BEGIN:VEVENT
DTSTART;TZID=America/Los_Angeles:20230601T090000
DTEND;TZID=America/Los_Angeles:20230601T100000
DTSTAMP:20260420T225411
CREATED:20230406T213251Z
LAST-MODIFIED:20230406T213251Z
UID:7612-1685610000-1685613600@ceils.ucla.edu
SUMMARY:What am I actually measuring? The role of validity evidence in STEM education research
DESCRIPTION:What am I actually measuring? The role of validity evidence in STEM education research \nRegis Komperda\, PhD\, San Diego State University \nThursday\, June 1st\, 2023\, 9 am PT \nEvent Zoom Link | Event flyer
URL:https://ceils.ucla.edu/event/what-am-i-actually-measuring-the-role-of-validity-evidence-in-stem-education-research/
LOCATION:Zoom
CATEGORIES:Off Campus Event,Online Event,SABER
END:VEVENT
BEGIN:VEVENT
DTSTART;TZID=America/Los_Angeles:20230601T173000
DTEND;TZID=America/Los_Angeles:20230601T183000
DTSTAMP:20260420T225411
CREATED:20230418T183544Z
LAST-MODIFIED:20230522T223017Z
UID:7666-1685640600-1685644200@ceils.ucla.edu
SUMMARY:An Evening with Heather McGhee: Exploring Racism's Price Tag and Building a Prosperous Future Together
DESCRIPTION:Dear Colleagues\,\n\nI’d like to invite you to join me in welcoming Heather McGhee to our beautiful campus for a thought-provoking evening\, including a discussion of her book\, The Sum of Us: What Racism Costs Everyone and How We Can Prosper Together. This New York Times Bestseller\, longlisted for the National Book Award has been called “One of today’s most insightful and influential thinkers offers a powerful exploration of inequality and the lesson that generations of Americans have failed to learn: Racism has a cost for everyone—not just for people of color”.\n\nThe book talk\, followed by Q & A with the author\, will take place at the UCLA California NanoSystems Institute (CNSI) on Thursday\, June 1st at 5:30 – 6:30 followed by a reception.\n\nIn preparation for this book talk\, the Center for Education Innovation and Learning in the Sciences (CEILS) is hosting a book club to discuss The Sum of Us: What Racism Costs Everyone and How We Can Prosper Together. We will read and discuss the book in four sections. Please feel free to drop in as your schedule allows. The book club dates are:\n\n\nTuesday\, May 2\, Noon – 1pm | Chapters 1-3 | Terasaki Life Sciences 5100\nThursday\, May 11\, Noon – 1pm | Chapters 4 & 5 | Terasaki Life Sciences 1100\nFriday\, May 19\, Noon – 1pm | Chapters 6-8 | Terasaki Life Sciences 1100\nFriday\, May 26\, Noon – 1pm | Chapters 9 & 10 | Terasaki Life Sciences 1100\n\n\nTo RSVP for the May book club dates and book talk\, please click here.\n\nWe invite you to use the Discussion Guide as you read the book: DISCUSSION GUIDE | Heather McGhee.\n\nWe look forward to having you join us for this exciting visit.\n\nBest wishes\,\nTracy\n*************************************************\nTracy Johnson\nKeith and Cecilia Terasaki Presidential Endowed Chair\nProfessor\, Molecular\, Cell and Developmental Biology\nDean\, Life Sciences\, UCLA College\n\n\n\n\n\n\n\n\n\n\n\n\n\n\n\n\n\n\n\n\n\n\n\n\n\n\n\n\n\n\n\n\n\n\n\n\n\n\n\n\n\n\n\n\n\n\n\n\n\n\n\n\n\n\n\n\n\n\nAbout Heather McGhee\nHeather designs and promotes solutions to inequality in America. Over her career in public policy\, Heather has crafted legislation\, testified before Congress and helped shape presidential campaign platforms. Her book The Sum of Us: WhatRacism Costs Everyone and How We Can Prosper Together spent 10 weeks on the New York Times bestseller list and was longlisted for the National Book Award and Carnegie Medal for Excellence in Nonfiction. The New York Times called it\, “The book that should change how progressives talk about race.” and the Chicago Tribune said\, “Required reading to move thecountry forward…”. It is a Washington Post and TIME Magazine Must-Read Book of 2021. The paperback version will be out in February 2022. The Sum of Us will be adapted into a Spotify podcast by Higher Ground\, the production company of Barack and Michelle Obama in June 2022\, and into a young adult readers’ version by Random House Children’s in 2023.\n\nHeather is an educator\, serving currently as a Visiting Lecturer in Urban Studies at the City University of New York’s School of Labor and Urban Studies. She has also held visiting positions at Yale University’s Brady-Johnson Grand Strategy Program andthe University of Chicago’s Institute of Politics. She is the recipient of honorary degrees from Muhlenberg College\, Niagara University\, and CUNY Graduate School of Public Health & Health Policy.\n\nFor nearly two decades\, Heather helped build the non-partisan “think and do” tank Demos\, serving four years as president.Under McGhee’s leadership\, Demos moved their original idea for “debt-free college” into the center of the 2016 presidential debate\, argued before the Supreme Court to protect voting rights in January 2018\, helped win pro-voter reforms in five states over two years\, provided expert testimony to Congressional committees\, including a Supreme Court confirmation hearing in 2017\, and led the research campaigns behind successful wage increases for low-paid workers on federal contracts\, as well as at McDonalds\, Walmart and other chain retailers.\n\nAs an executive\, McGhee transformed Demos on multiple levels. She led a successful strategic planning and rebranding process. She designed a Racial Equity Organizational Transformation which led to an increase in staff racial diversity (from27 percent people of color to 60 percent in four years)\, an original racial equity curriculum for staff professional development and a complete overhaul of the organization’s research\, litigation and campaign strategies using a racial equity lens. McGhee also nearly doubled the organizational budget in four years. A strong coalition-builder and trustedcross-movement leader\, McGhee deepened Demos’ influence through new networks and collaborations inside and outside the Beltway.\n\nAn influential voice in the media and a former NBC contributor\, McGhee regularly appears on NBC’s Meet the Press andMSNBC’s Morning Joe\, Deadline White House and All In. Her 2020 TED talk is entitled “Racism Has a Cost for Everyone”. She has shared her opinions\, writing and research in numerous outlets\, including the Washington Post\, New York Times\, Wall Street Journal\, USA Today\, Politico and National Public Radio. McGhee’s conversation on a C-SPAN program in 2016with a white man who asked for her help to overcome his racial prejudice went viral\, receiving more than 10 million views and sparking wide media coverage that included a New York Times op-ed\, a New Yorker piece and a CNN town hall. Inspring 2018\, Starbucks founder Howard Schultz asked McGhee to advise the company as it designed an anti-bias training for 250\,000 employees in the wake of the unjust arrest of two black men in a Philadelphia store. McGhee wrote a report with recommendations for how Starbucks can apply a racial equity lens to their businesses\, and how other companies both large and small can benefit from doing the same.\n\nMcGhee also played a leadership role in steering the historic Dodd-Frank Wall Street Reform and Consumer Protection Act\, and was one of the key advocates credited for the adoption of the Volcker Rule.\n\nShe holds a B.A. in American Studies from Yale University and a J.D. from the University of California at Berkeley School of Law\,. McGhee is the chair of the board of Color Of Change\, the nation’s largest online racial justice organization\, and alsoserves on the boards of the Rockefeller Brothers Fund\, the Open Society Foundations’ US Programs and Demos.\n\nFor more information\, please visit www.heathermcghee.com and follow Heather on Twitter: @hmcghee and Instagram and Facebook: @HeatherCMcGhee
URL:https://ceils.ucla.edu/event/heather-mcghee-book-talk/
LOCATION:California NanoSystems Institute
CATEGORIES:CEILS Sponsored,Journal Club,On Campus Event,UCLA
END:VEVENT
BEGIN:VEVENT
DTSTART;TZID=America/Los_Angeles:20230602T100000
DTEND;TZID=America/Los_Angeles:20230602T130000
DTSTAMP:20260420T225411
CREATED:20230502T211033Z
LAST-MODIFIED:20230502T211033Z
UID:7721-1685700000-1685710800@ceils.ucla.edu
SUMMARY:Creating Connections Symposium on Writing Pedagogy - Generating Text: Teaching\, Writing\, and Learning in the Age of AI
DESCRIPTION:June 2\, 10am-1pm PT in Powell 186 (in-person): Creating Connections Symposium on Writing Pedagogy – Generating Text: Teaching\, Writing\, and Learning in the Age of AI by Writing Programs/Graduate Certificate in Writing Pedagogy (RSVP coming soon) \n  \nThe 6th annual Creating Connections symposium on writing pedagogy will take place Friday\, June 2nd. Our theme for this year is Generating Text: Teaching\, Writing\, and Learning in the Age of AI\, and this event is intended as a follow-up to the campus-wide “AI in Action” event on May 12th. Our half-day symposium will feature interactive workshops on using ChatGPT and similar technologies throughout the writing process as well as a roundtable discussion on the practical and ethical questions surrounding use of ChatGPT in the writing classroom. The 2023 symposium is intended as an in-person event\, but we will provide a Zoom link for those who would like to watch remotely.
URL:https://ceils.ucla.edu/event/creating-connections-symposium-on-writing-pedagogy-generating-text-teaching-writing-and-learning-in-the-age-of-ai/
LOCATION:Powell 186
CATEGORIES:On Campus Event,UCLA
END:VEVENT
BEGIN:VEVENT
DTSTART;VALUE=DATE:20230607
DTEND;VALUE=DATE:20230608
DTSTAMP:20260420T225411
CREATED:20230605T213434Z
LAST-MODIFIED:20230605T213434Z
UID:7787-1686096000-1686182399@ceils.ucla.edu
SUMMARY:Critical (re)Engagement: Transformative Teaching and Learning for a ‘New Normal’ | 19th Annual Teaching & Learning Conference at Elon University (Virtual)
DESCRIPTION:19th Annual Teaching & Learning Conference at Elon University\nElon University welcomes university and college educators to the 19th Annual Teaching & Learning Conference on Wednesday\, June 7th\, 2023. This free\, fully-virtual conference is sponsored jointly by Elon’s Center for the Advancement of Teaching and Learning (CATL) and Teaching and Learning Technologies (TLT). \nConference Theme: Critical (re)Engagement: Transformative Teaching and Learning for a ‘New Normal\nIn an era of endemic COVID\, higher education finds itself at a precipice of potential\, where we\, as educators\, can redefine the roles of instructor and learner\, rediscover the values that guide our pedagogies and curriculum\, and reimagine learning environments. This work requires space\, time\, and a thoughtful consideration of the collective trauma we have experienced over the last three years. What does our ‘new normal’ look like and how do we ensure that we acknowledge and address the significant inequalities that have been exacerbated over the last three years? This year’s Teaching and Learning Conference envisions exploring\, discussing\, deconstructing\, and rebuilding what it means for us and learners to critically (re)engage in learning. \n 
URL:https://ceils.ucla.edu/event/critical-reengagement-transformative-teaching-and-learning-for-a-new-normal-19th-annual-teaching-learning-conference-at-elon-university-virtual/
LOCATION:Online
CATEGORIES:Off Campus Event,Online Event
END:VEVENT
BEGIN:VEVENT
DTSTART;TZID=America/Los_Angeles:20230609T080000
DTEND;TZID=America/Los_Angeles:20230610T170000
DTSTAMP:20260420T225411
CREATED:20230406T215602Z
LAST-MODIFIED:20230406T215602Z
UID:7629-1686297600-1686416400@ceils.ucla.edu
SUMMARY:The 2023 Grading Conference
DESCRIPTION:The 2023 Grading Conference \nJune 9 & 10 | Online | Register Here \nThe Grading Conference is a place where faculty join together to learn about grading practices that best support student learning\, promote diversity\, equity and inclusion in the classroom\, and enhance student and faculty classroom experiences. Now in its fourth year\, the purpose of the conference is to support instructors as they strive to challenge traditional grading practices that have been shown to be damaging to students and their learning.\n 
URL:https://ceils.ucla.edu/event/the-2023-grading-conference/
LOCATION:The Grading Conference
CATEGORIES:Online Event
END:VEVENT
END:VCALENDAR