
BEGIN:VCALENDAR
VERSION:2.0
PRODID:-//Center for Education, Innovation, and Learning in the Sciences - ECPv6.15.20//NONSGML v1.0//EN
CALSCALE:GREGORIAN
METHOD:PUBLISH
X-WR-CALNAME:Center for Education, Innovation, and Learning in the Sciences
X-ORIGINAL-URL:https://ceils.ucla.edu
X-WR-CALDESC:Events for Center for Education, Innovation, and Learning in the Sciences
REFRESH-INTERVAL;VALUE=DURATION:PT1H
X-Robots-Tag:noindex
X-PUBLISHED-TTL:PT1H
BEGIN:VTIMEZONE
TZID:America/Los_Angeles
BEGIN:DAYLIGHT
TZOFFSETFROM:-0800
TZOFFSETTO:-0700
TZNAME:PDT
DTSTART:20210314T100000
END:DAYLIGHT
BEGIN:STANDARD
TZOFFSETFROM:-0700
TZOFFSETTO:-0800
TZNAME:PST
DTSTART:20211107T090000
END:STANDARD
BEGIN:DAYLIGHT
TZOFFSETFROM:-0800
TZOFFSETTO:-0700
TZNAME:PDT
DTSTART:20220313T100000
END:DAYLIGHT
BEGIN:STANDARD
TZOFFSETFROM:-0700
TZOFFSETTO:-0800
TZNAME:PST
DTSTART:20221106T090000
END:STANDARD
BEGIN:DAYLIGHT
TZOFFSETFROM:-0800
TZOFFSETTO:-0700
TZNAME:PDT
DTSTART:20230312T100000
END:DAYLIGHT
BEGIN:STANDARD
TZOFFSETFROM:-0700
TZOFFSETTO:-0800
TZNAME:PST
DTSTART:20231105T090000
END:STANDARD
BEGIN:DAYLIGHT
TZOFFSETFROM:-0800
TZOFFSETTO:-0700
TZNAME:PDT
DTSTART:20240310T100000
END:DAYLIGHT
BEGIN:STANDARD
TZOFFSETFROM:-0700
TZOFFSETTO:-0800
TZNAME:PST
DTSTART:20241103T090000
END:STANDARD
END:VTIMEZONE
BEGIN:VTIMEZONE
TZID:UTC
BEGIN:STANDARD
TZOFFSETFROM:+0000
TZOFFSETTO:+0000
TZNAME:UTC
DTSTART:20210101T000000
END:STANDARD
END:VTIMEZONE
BEGIN:VEVENT
DTSTART;TZID=America/Los_Angeles:20230201T150000
DTEND;TZID=America/Los_Angeles:20230201T160000
DTSTAMP:20260419T233227
CREATED:20230106T215126Z
LAST-MODIFIED:20230106T215126Z
UID:2728-1675263600-1675267200@ceils.ucla.edu
SUMMARY:Ed Talks @CEILS: Learning Community Meetings
DESCRIPTION:Join us as we explore the latest high quality STEM Education Research studies and how to implement effective and inclusive teaching. We welcome guest speakers from UCLA and other academic institutions to share their research and lead small group discussions with our teaching and learning community. Faculty\, graduate students\, postdocs\, and anyone interested in STEM education research are welcome to participate\nWinter 2023 Dates: February 1\, 8\, and 15 (3-4pm) in Terasaki 1100\n 
URL:https://ceils.ucla.edu/event/ed-talks-ceils-learning-community-meetings/
LOCATION:1100 Terasaki Life Sciences Building\, 1100 Terasaki Life Sciences Building\, UCLA\, Los Angeles\, CA\, 90095\, United States
CATEGORIES:CEILS Sponsored,Journal Club
END:VEVENT
BEGIN:VEVENT
DTSTART;TZID=America/Los_Angeles:20230127T093000
DTEND;TZID=America/Los_Angeles:20230127T113000
DTSTAMP:20260419T233227
CREATED:20221208T191206Z
LAST-MODIFIED:20221208T191206Z
UID:2717-1674811800-1674819000@ceils.ucla.edu
SUMMARY:CONVERSATION SERIES: BECOMING AN ANTI-RACIST EDUCATOR | 3 PART SERIES BEGINS JAN 27th
DESCRIPTION:CONVERSATION SERIES: BECOMING AN ANTI-RACIST EDUCATOR\nThe Winter Quarter dates are January 27\, February 3\, and February 9 from 9:30-11:30 a.m.\nThe CEILS Becoming an Anti-racist Educator Conversation Series reflects and creates space for discussion of one’s own racial identity development and how racial identity and other social identities impact our learning environments. With colleagues\, participants in these discussions will spend intentional time on student-centered\, inclusive and equitable\, and anti-racist action strategies that can be implemented in the classroom and laboratory learning environments to work against the impacts of racism. \nFeedback from a recent participant: \n“Before this series\, I would have been hesitant to interrupt a microaggression – due to not knowing if it was a big deal and feeling uncomfortable. Now I realize it’s important to say something\, even if I’m not sure exactly what to say.” and “I plan to mitigate the impacts of racism in higher ed by including historically underrepresented and minority student voices in the planning process for curriculum” \n*Our upcoming workshops are open to instructors\, faculty\, and teaching postdocs who teach courses in the Life and Physical Sciences.  There will be future offerings for graduate students\, dates TBD.* \nRSVP FOR WINTER QUARTER
URL:https://ceils.ucla.edu/event/conversation-series-becoming-an-anti-racist-educator-3-part-series-begins-jan-27th/
CATEGORIES:CEILS Sponsored,CEILS Workshop
END:VEVENT
BEGIN:VEVENT
DTSTART;TZID=America/Los_Angeles:20221017T140000
DTEND;TZID=America/Los_Angeles:20221101T160000
DTSTAMP:20260419T233227
CREATED:20220614T180410Z
LAST-MODIFIED:20221019T212643Z
UID:1962-1666015200-1667318400@ceils.ucla.edu
SUMMARY:3-Part Series: Becoming an Anti-Racist Educator
DESCRIPTION:3-Part Series: Becoming an Anti-Racist Educator\nMultiple Days (see below)\n2:00pm – 4:00pm\nPlease RSVP for the series and select your three session dates here.\n\nThe CEILS Becoming an Anti-racist Educator Conversation Series reflects and creates space for discussion of one’s own racial identity development and how racial identity and other social identities impact our learning environments. With colleagues\, participants in these discussions will spend intentional time on student-centered\, inclusive and equitable\, and anti-racist action strategies that can be implemented in the classroom and laboratory learning environments to work against the impacts of racism.\n\nThese workshops will be in-person\, interactive 2 hour sessions with didactics and small group discussions. Each session builds on the content and experience of the previous session\, therefore we ask that you attend all 3 sessions. Please see the workshop descriptions below:\n\n\nPart 1 – Inside work: Reflecting and Exploring Identity\, Privilege\, Definitions of race\, racism and antiracism. Offered Monday\, Oct 17 and Tuesday\, Oct. 18th (pick one).\nPart 2 – Outside work: Identifying inclusive and antiracist pedagogy and strategies in the classroom\, tools and practice interrupting microaggressions. Offered Monday\, Oct. 24 or Tuesday\, Oct. 25th (pick one).\nPart 3 – Discuss and identify strategies to implement and create a more anti-racist climate\, apply to an action plan to take anti-racist action in your learning environment\, get feedback from colleagues. Offered Monday\, Oct 31st or Tuesday\, Nov. 1st (pick one).\n\nAll sessions take place from 2-4pm.
URL:https://ceils.ucla.edu/event/3-part-series-becoming-an-anti-racist-educator/
END:VEVENT
BEGIN:VEVENT
DTSTART;VALUE=DATE:20220915
DTEND;VALUE=DATE:20220917
DTSTAMP:20260419T233227
CREATED:20220606T193751Z
LAST-MODIFIED:20220629T203234Z
UID:1748-1663200000-1663372799@ceils.ucla.edu
SUMMARY:Two-Day Active Learning Bootcamp
DESCRIPTION:SEPT 15 – 16: Two-Day Active Learning Bootcamp\n(If you’ve attended a week-long summer institute in the past\, this is a great refresher and additional practice!)\n\nLearn more and RSVP here.\n\nAfter our day-long Faculty Workshop\, we’ve gotten feedback that participants wished they had more time to actually practice active learning approaches they’re considering for their courses.\n\nIn this Bootcamp\, you will learn about and practice an array of instructional approaches to actively engage your students in their learning and collaboratively with one another\, discussing how each approach can be adapted to small and large class sizes. Then\, you will get support in figuring out how to actually implement these in your own course\, designing specific questions and group activities to fit your course goals.
URL:https://ceils.ucla.edu/event/two-day-active-learning-bootcamp/
END:VEVENT
BEGIN:VEVENT
DTSTART;VALUE=DATE:20220914
DTEND;VALUE=DATE:20220915
DTSTAMP:20260419T233227
CREATED:20220606T193709Z
LAST-MODIFIED:20220629T201444Z
UID:1746-1663113600-1663199999@ceils.ucla.edu
SUMMARY:One Full Day - CEILS Annual Faculty Workshop on Best Equitable Practices in Teaching
DESCRIPTION:SEPT 14: One Full Day – CEILS Annual Faculty Workshop on Best Equitable Practices in Teaching\n\nLearn more and RSVP\n\n\nThis annual\, all-day faculty workshop addresses select topics in science and math education. This workshop is appropriate for everyone—new or veteran teachers—interested in learning more about equitable teaching practices based on education research. We especially encourage instructors who either are relatively new to college teaching or who have instructional responsibilities in large enrollment gateway courses for science\, technology\, engineering\, and math (STEM) majors.\n\nTopics include effective course design as well as student-centered teaching strategies that incorporate active learning and create equitable and inclusive classroom environments. Many of the instructional techniques focus on facilitating peer learning and other collaborative and group activities designed to support student success in large enrollment classes.\n\nThe format and emphasis of this day-long event has been modified from previous years\, so even if you have participated in this workshop before\, you might consider attending again and learning something new!\n\nView agenda here: https://tinyurl.com/CEILS-FW22-agenda
URL:https://ceils.ucla.edu/event/one-full-day-ceils-annual-faculty-workshop-on-best-equitable-practices-in-teaching/
END:VEVENT
BEGIN:VEVENT
DTSTART;TZID=America/Los_Angeles:20220907T093000
DTEND;TZID=America/Los_Angeles:20220907T120000
DTSTAMP:20260419T233227
CREATED:20220614T180100Z
LAST-MODIFIED:20220629T200939Z
UID:1959-1662543000-1662552000@ceils.ucla.edu
SUMMARY:BRUIN LEARN Prep Session for Fall Quarter
DESCRIPTION:BRUIN LEARN Prep Session for Fall Quarter\nSeptember 7\, 2022\n9:30am – Noon | Hershey Hall 158\n\nRSVP Today\n\n\n\n\n\n\n\n\n\n\n\n\n\n\n\nJoin CEILS and UCLA’s Online Teaching and Learning Instructional Designers\, and additional members of the LMS transition team to get specialized support building and designing your course on Bruin Learn — UCLA’s new learning management system (Canvas). During this session we will be offering time and space to work on your course with support staff present and available to pull up a chair and answer questions and offer recommendations. Our goal is to help you walk away with near fully developed Week 0 and Week 1 course modules\, and a much greater comfort level using Bruin Learn.\n\nDate and Time: Wednesday\, September 7th | 9:30am – Noon\nLocation: Hershey Hall 158\n\nAgenda:\n\n9:30 – 10:00 Quick Orientation to Bruin Learn (Presentation)\n10:00 – 12 noon: Work on your course; staff will be available to help you and answer questions at any point.\ni<Clicker Support Available! An i<Clicker representative will be present at this session and available to help you get setup (kits will also be available).\n\n\nNote: Coffee\, tea\, and snacks will be available outside of the room in the courtyard for breaks (no eating will be permitted in the room due to Covid restrictions). Masks must be worn indoors.
URL:https://ceils.ucla.edu/event/bruin-learn-prep-session-for-fall-quarter/
LOCATION:Hershey Hall 158
CATEGORIES:CEILS Sponsored,CEILS Workshop,On Campus Event,UCLA
END:VEVENT
BEGIN:VEVENT
DTSTART;VALUE=DATE:20220824
DTEND;VALUE=DATE:20220901
DTSTAMP:20260419T233227
CREATED:20220712T194119Z
LAST-MODIFIED:20220712T194311Z
UID:2317-1661299200-1661990399@ceils.ucla.edu
SUMMARY:This event has been updated - click below for updated site.
DESCRIPTION:CEILS SUMMER SCIENTIFIC TEACHING INSTITUTE: Foundations of Equitable Course Design & Inclusive Teaching
URL:https://ceils.ucla.edu/event/week-long-ceils-scientific-teaching-institute-foundations-of-equitable-course-design-inclusive-teaching/
END:VEVENT
BEGIN:VEVENT
DTSTART;VALUE=DATE:20220824
DTEND;VALUE=DATE:20220901
DTSTAMP:20260419T233227
CREATED:20220606T193926Z
LAST-MODIFIED:20220629T200821Z
UID:1750-1661299200-1661990399@ceils.ucla.edu
SUMMARY:CEILS SUMMER SCIENTIFIC TEACHING INSTITUTE: Foundations of Equitable Course Design & Inclusive Teaching
DESCRIPTION:CEILS SUMMER SCIENTIFIC TEACHING INSTITUTE:\nFoundations of Equitable Course Design & Inclusive Teaching\n\nAugust 24 – 31\, 2022 (excluding the weekend)\n9:00am – 4:00pm | In-person\n\n\nApply by Friday\, July 1st: Click Here\n\n\n\n\n\n\n\n\n\n\n\n\n\n\n\n\n\n\n\n\n\n\n\nThe CEILS Scientific Teaching Institute is designed to introduce you to evidence-based strategies for inclusive teaching and course design. The experience is facilitated by CEILS staff and other UCLA faculty; and you will receive feedback on your daily assignments\, culminating at the end of the week with a syllabus draft\, assessment plan\, sample lesson plan\, and embedded feedback strategy. Tips\, strategies\, and resources for equity\, accessibility\, and remote/online design will be integrated into the workshops and course site resources.\n\nBe proactive and get your fall course ready in August with this opportunity to take a full week to focus. Finalize your syllabus\, assignments and activities with strong support and feedback from peers!\n\n\n\nLearn more about this annual event here.
URL:https://ceils.ucla.edu/event/ceils-summer-scientific-teaching-institute-foundations-of-equitable-course-design-inclusive-teaching/
END:VEVENT
BEGIN:VEVENT
DTSTART;TZID=America/Los_Angeles:20220809T150000
DTEND;TZID=America/Los_Angeles:20220809T163000
DTSTAMP:20260419T233227
CREATED:20220606T221340Z
LAST-MODIFIED:20220606T221340Z
UID:1775-1660057200-1660062600@ceils.ucla.edu
SUMMARY:CEILS Book Club: Teaching to Transgress (Meeting #5)
DESCRIPTION:Come read “Teaching to Transgress: Education as the Practice of Freedom” by bell hooks with us this summer! \n\n\nAbout this event\n\n\n\nWe invite you to register for all the dates you can attend. However\, you are welcome to register for just the first meeting now and register for the following ones later. \nRefreshments will be served in the Hershey Hall Front Courtyard after each book club meeting. Discussion from 3 – 4pm; Refreshments at 4pm. \nWhile we plan to meet in-person\, a Zoom link will be sent out to all registered participants as well.  \nReading Schedule: \nJune 21: Intro\, Chapter 1 & 2 \nJune 28: Chapter 3 & 4 \nJuly 12: Chapter 5\, 6 & 7 \nJuly 19: Chapter 8 & 9 \nAugust 9: Chapter 10\, 11 & 12
URL:https://ceils.ucla.edu/event/ceils-book-club-teaching-to-transgress-meeting-5/
LOCATION:1100 Terasaki Life Sciences Building\, 1100 Terasaki Life Sciences Building\, UCLA\, Los Angeles\, CA\, 90095\, United States
CATEGORIES:CEILS Sponsored,Journal Club,On Campus Event,Online Event
END:VEVENT
BEGIN:VEVENT
DTSTART;TZID=America/Los_Angeles:20220719T150000
DTEND;TZID=America/Los_Angeles:20220719T163000
DTSTAMP:20260419T233227
CREATED:20220606T221210Z
LAST-MODIFIED:20220606T221210Z
UID:1773-1658242800-1658248200@ceils.ucla.edu
SUMMARY:CEILS Book Club: Teaching to Transgress (Meeting #4)
DESCRIPTION:Come read “Teaching to Transgress: Education as the Practice of Freedom” by bell hooks with us this summer! \n\n\nAbout this event\n\n\n\nWe invite you to register for all the dates you can attend. However\, you are welcome to register for just the first meeting now and register for the following ones later. \nRefreshments will be served in the Hershey Hall Front Courtyard after each book club meeting. Discussion from 3pm – 4pm; Refreshments at 4pm. \nWhile we plan to meet in-person\, a Zoom link will be sent out to all registered participants as well.  \nReading Schedule: \nJune 21: Intro\, Chapter 1 & 2 \nJune 28: Chapter 3 & 4 \nJuly 12: Chapter 5\, 6 & 7 \nJuly 19: Chapter 8 & 9 \nAugust 9: Chapter 10\, 11 & 12
URL:https://ceils.ucla.edu/event/ceils-book-club-teaching-to-transgress-meeting-4/
LOCATION:1100 Terasaki Life Sciences Building\, 1100 Terasaki Life Sciences Building\, UCLA\, Los Angeles\, CA\, 90095\, United States
CATEGORIES:CEILS Sponsored,Journal Club,On Campus Event,Online Event
END:VEVENT
BEGIN:VEVENT
DTSTART;TZID=America/Los_Angeles:20220712T150000
DTEND;TZID=America/Los_Angeles:20220712T163000
DTSTAMP:20260419T233227
CREATED:20220606T221042Z
LAST-MODIFIED:20220606T221042Z
UID:1771-1657638000-1657643400@ceils.ucla.edu
SUMMARY:CEILS Book Club: Teaching to Transgress (Meeting #3)
DESCRIPTION:Come read “Teaching to Transgress: Education as the Practice of Freedom” by bell hooks with us this summer! \n\n\nAbout this event\n\n\n\nWe invite you to register for all the dates you can attend. However\, you are welcome to register for just the first meeting now and register for the following ones later. \nRefreshments will be served in the Hershey Hall Front Courtyard after each book club meeting. Discussion from 3pm – 4pm; Refreshments at 4pm. \nWhile we plan to meet in-person\, a Zoom link will be sent out to all registered participants as well.  \nReading Schedule: \nJune 21: Intro\, Chapter 1 & 2 \nJune 28: Chapter 3 & 4 \nJuly 12: Chapter 5\, 6 & 7 \nJuly 19: Chapter 8 & 9 \nAugust 9: Chapter 10\, 11 & 12
URL:https://ceils.ucla.edu/event/ceils-book-club-teaching-to-transgress-meeting-3/
LOCATION:1100 Terasaki Life Sciences Building\, 1100 Terasaki Life Sciences Building\, UCLA\, Los Angeles\, CA\, 90095\, United States
CATEGORIES:CEILS Sponsored,Journal Club,On Campus Event,Online Event
END:VEVENT
BEGIN:VEVENT
DTSTART;TZID=America/Los_Angeles:20220628T150000
DTEND;TZID=America/Los_Angeles:20220628T163000
DTSTAMP:20260419T233227
CREATED:20220606T220859Z
LAST-MODIFIED:20220606T220859Z
UID:1769-1656428400-1656433800@ceils.ucla.edu
SUMMARY:CEILS Book Club: Teaching to Transgress (Meeting #2)
DESCRIPTION:Come read “Teaching to Transgress: Education as the Practice of Freedom” by bell hooks with us this summer! \n\n\nAbout this event\n\n\n\nWe invite you to register for all the dates you can attend. However\, you are welcome to register for just the first meeting now and register for the following ones later. \nRefreshments will be served in the Hershey Hall Front Courtyard after each book club meeting. Discussion from 3pm – 4pm; Refreshments at 4pm. \nWhile we plan to meet in-person\, a Zoom link will be sent out to all registered participants as well.  \nReading Schedule: \nJune 21: Intro\, Chapter 1 & 2 \nJune 28: Chapter 3 & 4 \nJuly 12: Chapter 5\, 6 & 7 \nJuly 19: Chapter 8 & 9 \nAugust 9: Chapter 10\, 11 & 12
URL:https://ceils.ucla.edu/event/ceils-book-club-teaching-to-transgress-meeting-2/
LOCATION:1100 Terasaki Life Sciences Building\, 1100 Terasaki Life Sciences Building\, UCLA\, Los Angeles\, CA\, 90095\, United States
CATEGORIES:CEILS Sponsored,Journal Club,On Campus Event,Online Event
END:VEVENT
BEGIN:VEVENT
DTSTART;TZID=America/Los_Angeles:20220621T150000
DTEND;TZID=America/Los_Angeles:20220621T163000
DTSTAMP:20260419T233227
CREATED:20220606T220403Z
LAST-MODIFIED:20220606T220647Z
UID:1766-1655823600-1655829000@ceils.ucla.edu
SUMMARY:CEILS Book Club: Teaching to Transgress (Meeting #1)
DESCRIPTION:Come read “Teaching to Transgress: Education as the Practice of Freedom” by bell hooks with us this summer! \n\n\nAbout this event\n\n\n\nWe invite you to register for all the dates you can attend. However\, you are welcome to register for just the first meeting now and register for the following ones later. \nRefreshments will be served in the Hershey Hall Front Courtyard after each book club meeting. Discussion from 3pm – 4pm; Refreshments at 4pm. \nWhile we plan to meet in-person\, a Zoom link will be sent out to all registered participants as well.  \nReading Schedule: \nJune 21: Intro\, Chapter 1 & 2 \nJune 28: Chapter 3 & 4 \nJuly 12: Chapter 5\, 6 & 7 \nJuly 19: Chapter 8 & 9 \nAugust 9: Chapter 10\, 11 & 12
URL:https://ceils.ucla.edu/event/ceils-book-club-teaching-to-transgress/
LOCATION:1100 Terasaki Life Sciences Building\, 1100 Terasaki Life Sciences Building\, UCLA\, Los Angeles\, CA\, 90095\, United States
CATEGORIES:CEILS Sponsored,Journal Club,On Campus Event,Online Event
END:VEVENT
BEGIN:VEVENT
DTSTART;TZID=America/Los_Angeles:20220513T150000
DTEND;TZID=America/Los_Angeles:20220513T155000
DTSTAMP:20260419T233227
CREATED:20220512T205220Z
LAST-MODIFIED:20220517T180350Z
UID:1475-1652454000-1652457000@ceils.ucla.edu
SUMMARY:CEILS Journal Club for STEM Education Research | Learning Community Meeting
DESCRIPTION:CEILS Journal Club for STEM Education Research | Learning Community Meetings \nFridays from 3:00 – 3:50 PM\, Apr 15 – June 3\, 2022\nLocation: Terasaki Life Sciences 1100\, Zoom option also available \nPlease email Supriya (ksupriya@ceils.ucla.edu) if you would like to attend via zoom or have any questions
URL:https://ceils.ucla.edu/event/ceils-journal-club-for-stem-education-research-learning-community-meeting/
LOCATION:1100 Terasaki Life Sciences Building\, 1100 Terasaki Life Sciences Building\, UCLA\, Los Angeles\, CA\, 90095\, United States
CATEGORIES:Journal Club,On Campus Event,UCLA
END:VEVENT
BEGIN:VEVENT
DTSTART;TZID=America/Los_Angeles:20220513T150000
DTEND;TZID=America/Los_Angeles:20220513T155000
DTSTAMP:20260419T233227
CREATED:20220512T205220Z
LAST-MODIFIED:20220517T180350Z
UID:1475-1652454000-1652457000@ceils.ucla.edu
SUMMARY:CEILS Journal Club for STEM Education Research | Learning Community Meeting
DESCRIPTION:CEILS Journal Club for STEM Education Research | Learning Community Meetings \nFridays from 3:00 – 3:50 PM\, Apr 15 – June 3\, 2022\nLocation: Terasaki Life Sciences 1100\, Zoom option also available \nPlease email Supriya (ksupriya@ceils.ucla.edu) if you would like to attend via zoom or have any questions
URL:https://ceils.ucla.edu/event/ceils-journal-club-for-stem-education-research-learning-community-meeting/
LOCATION:1100 Terasaki Life Sciences Building\, 1100 Terasaki Life Sciences Building\, UCLA\, Los Angeles\, CA\, 90095\, United States
CATEGORIES:Journal Club,On Campus Event,UCLA
END:VEVENT
BEGIN:VEVENT
DTSTART;TZID=America/Los_Angeles:20220513T150000
DTEND;TZID=America/Los_Angeles:20220513T155000
DTSTAMP:20260419T233227
CREATED:20220512T205220Z
LAST-MODIFIED:20220517T180350Z
UID:1475-1652454000-1652457000@ceils.ucla.edu
SUMMARY:CEILS Journal Club for STEM Education Research | Learning Community Meeting
DESCRIPTION:CEILS Journal Club for STEM Education Research | Learning Community Meetings \nFridays from 3:00 – 3:50 PM\, Apr 15 – June 3\, 2022\nLocation: Terasaki Life Sciences 1100\, Zoom option also available \nPlease email Supriya (ksupriya@ceils.ucla.edu) if you would like to attend via zoom or have any questions
URL:https://ceils.ucla.edu/event/ceils-journal-club-for-stem-education-research-learning-community-meeting/
LOCATION:1100 Terasaki Life Sciences Building\, 1100 Terasaki Life Sciences Building\, UCLA\, Los Angeles\, CA\, 90095\, United States
CATEGORIES:Journal Club,On Campus Event,UCLA
END:VEVENT
BEGIN:VEVENT
DTSTART;TZID=America/Los_Angeles:20220519T080000
DTEND;TZID=America/Los_Angeles:20220520T170000
DTSTAMP:20260419T233227
CREATED:20220517T180803Z
LAST-MODIFIED:20220517T180803Z
UID:1548-1652947200-1653066000@ceils.ucla.edu
SUMMARY:5th Annual Creating Connections Symposium on Writing Pedagogy | Hosted by UCLA Writing Programs and the Graduate Certificate in Writing Pedagogy
DESCRIPTION:Writing Programs and the Graduate Certificate in Writing Pedagogy are excited to announce the 5th Annual Creating Connections Symposium on Writing Pedagogy\, May 19-20! The symposium (which will be hybrid with the exception of one fully in-person session) will feature new takes on previous topics like contract grading and multimodal composition\, as well as venturing into new territory with a session on neurodiversity and accessibility and a collaborative session (with the EPIC-Lang conference) on intersections of writing and language pedagogy. Please see below for a brief schedule\, and check out our webpage for more information. You can also RSVP here. \n\nThursday\, May 19th \nSession 1: Neurodiversity and Accessibility In Higher Education \n3:00-4:00pm PDT\, hybrid (365 Kaplan Hall | Zoom link will be provided to those who RSVP) \nFollowed by a workshop with UCLA All Brains \n4:15-5:00pm PDT\, hybrid (365 Kaplan Hall | Zoom link will be provided to those who RSVP) \nFriday\, May 20th \nSession 2: Alternative Grading Methods \n11:00am-12:00pm PDT\, in person (348 Kaplan Hall | materials will be available online) \nSession 3: Metacognition and Technology in Multimodal Classrooms \n1:30-2:30pm PDT\, hybrid (348 Kaplan Hall | Zoom link will be provided to those who RSVP) \nSession 4: Rethinking the Teaching of Writing in the Language Classroom \n3:15-4:15pm PDT\, hybrid (348 Kaplan Hall | Zoom link will be provided to those who RSVP) \nReception \n4:30-5:30pm PDT\, in person (outdoor location TBA) \nAll events are free\, and we welcome interested UCLA graduate students\, instructors\, library staff\, and administrators to attend. Although not required\, we encourage participants to bring relevant ideas for assignments\, activities\, and teaching strategies to share at each session. \nWe will check UCLA symptom monitoring for all in-person events and strongly encourage masks for indoor events to keep immunocompromised members of our community safe. If you require any accommodations to participate\, please let us know via the RSVP form.
URL:https://ceils.ucla.edu/event/5th-annual-creating-connections-symposium-on-writing-pedagogy-hosted-by-ucla-writing-programs-and-the-graduate-certificate-in-writing-pedagogy/
CATEGORIES:On Campus Event,UCLA
END:VEVENT
BEGIN:VEVENT
DTSTART;TZID=America/Los_Angeles:20220517T100000
DTEND;TZID=America/Los_Angeles:20220517T120000
DTSTAMP:20260419T233227
CREATED:20220513T225017Z
LAST-MODIFIED:20220517T180203Z
UID:1522-1652781600-1652788800@ceils.ucla.edu
SUMMARY:Finding The Way Through Curriculum A Virtual Mapping Workshop with Linda Suskie | Hosted by Weave
DESCRIPTION:About the Virtual Workshop:\nEnrollment Information:\nTo maximize interactions seating is limited to 12 participants (so be sure to sign up soon!). Tuition is $225; Weave members get a discount\, just ask! \nDescription: \nIf you’re not teaching it\, there’s not much point in assessing it! Learn why curriculum maps are increasingly considered essential to successful assessment and\, even more importantly\, to successful student learning. We’ll review some fundamental principles for creating meaningful learning experiences and curricula. We’ll then practice some of the steps in creating and analyzing curriculum maps for courses\, programs\, and general education curricula. \nPresentation Outcomes/Takeaways: \nExplain why curriculum maps are a good idea.\nArticulate the characteristics of great learning experiences and a great curriculum.\nCreate course and program curriculum maps.\nAnalyze a program or general education curriculum map.\nWe hope to see you!
URL:https://ceils.ucla.edu/event/finding-the-way-through-curriculum-a-virtual-mapping-workshop-with-linda-suskie/
CATEGORIES:Off Campus Event,Online Event
END:VEVENT
BEGIN:VEVENT
DTSTART;TZID=America/Los_Angeles:20220513T150000
DTEND;TZID=America/Los_Angeles:20220513T155000
DTSTAMP:20260419T233227
CREATED:20220512T205220Z
LAST-MODIFIED:20220517T180350Z
UID:1475-1652454000-1652457000@ceils.ucla.edu
SUMMARY:CEILS Journal Club for STEM Education Research | Learning Community Meeting
DESCRIPTION:CEILS Journal Club for STEM Education Research | Learning Community Meetings \nFridays from 3:00 – 3:50 PM\, Apr 15 – June 3\, 2022\nLocation: Terasaki Life Sciences 1100\, Zoom option also available \nPlease email Supriya (ksupriya@ceils.ucla.edu) if you would like to attend via zoom or have any questions
URL:https://ceils.ucla.edu/event/ceils-journal-club-for-stem-education-research-learning-community-meeting/
LOCATION:1100 Terasaki Life Sciences Building\, 1100 Terasaki Life Sciences Building\, UCLA\, Los Angeles\, CA\, 90095\, United States
CATEGORIES:Journal Club,On Campus Event,UCLA
END:VEVENT
BEGIN:VEVENT
DTSTART;TZID=UTC:20220304T100000
DTEND;TZID=UTC:20220304T120000
DTSTAMP:20260419T233227
CREATED:20220217T072837Z
LAST-MODIFIED:20220217T073217Z
UID:659-1646388000-1646395200@ceils.ucla.edu
SUMMARY:Prepping for Spring Quarter in Bruin Learn
DESCRIPTION:Join CEILS and additional campus experts to get specialized support building and designing your course on Bruin Learn — UCLA’s new learning management system. During this session we will be offering time and space to work on your course with support staff present and available to pull up a chair and answer questions and offer recommendations. Our goal is to help you walk away with near fully developed Week 0 and Week 1 course modules for Spring Quarter\, and a much greater comfort level using Bruin Learn. Bring your laptop! \nAgenda: \n10:00 – 10:30am: Quick Orientation to Bruin Learn (Presentation)\n10:30am – Noon: Work on your course; staff will be available to help you and answer questions at any point.
URL:https://ceils.ucla.edu/event/prepping-for-spring-quarter-in-bruin-learn/
LOCATION:Hershey Hall Salon
CATEGORIES:CEILS Workshop
END:VEVENT
END:VCALENDAR