
BEGIN:VCALENDAR
VERSION:2.0
PRODID:-//Center for Education, Innovation, and Learning in the Sciences - ECPv6.15.20//NONSGML v1.0//EN
CALSCALE:GREGORIAN
METHOD:PUBLISH
X-WR-CALNAME:Center for Education, Innovation, and Learning in the Sciences
X-ORIGINAL-URL:https://ceils.ucla.edu
X-WR-CALDESC:Events for Center for Education, Innovation, and Learning in the Sciences
REFRESH-INTERVAL;VALUE=DURATION:PT1H
X-Robots-Tag:noindex
X-PUBLISHED-TTL:PT1H
BEGIN:VTIMEZONE
TZID:America/Los_Angeles
BEGIN:DAYLIGHT
TZOFFSETFROM:-0800
TZOFFSETTO:-0700
TZNAME:PDT
DTSTART:20220313T100000
END:DAYLIGHT
BEGIN:STANDARD
TZOFFSETFROM:-0700
TZOFFSETTO:-0800
TZNAME:PST
DTSTART:20221106T090000
END:STANDARD
BEGIN:DAYLIGHT
TZOFFSETFROM:-0800
TZOFFSETTO:-0700
TZNAME:PDT
DTSTART:20230312T100000
END:DAYLIGHT
BEGIN:STANDARD
TZOFFSETFROM:-0700
TZOFFSETTO:-0800
TZNAME:PST
DTSTART:20231105T090000
END:STANDARD
BEGIN:DAYLIGHT
TZOFFSETFROM:-0800
TZOFFSETTO:-0700
TZNAME:PDT
DTSTART:20240310T100000
END:DAYLIGHT
BEGIN:STANDARD
TZOFFSETFROM:-0700
TZOFFSETTO:-0800
TZNAME:PST
DTSTART:20241103T090000
END:STANDARD
END:VTIMEZONE
BEGIN:VEVENT
DTSTART;TZID=America/Los_Angeles:20230517T120000
DTEND;TZID=America/Los_Angeles:20230517T130000
DTSTAMP:20260421T070142
CREATED:20230502T210603Z
LAST-MODIFIED:20230502T210603Z
UID:7715-1684324800-1684328400@ceils.ucla.edu
SUMMARY:A Conversation with AI: Hands-on Demonstration of ChatGPT and Other AI Tools
DESCRIPTION:Session Information\nDate: Wednesday\, May 17 \nTime: 12pm – 1pm PT \nLocation: Zoom (Register for Zoom link) \n\n\n\n\n\n\n\nSession Description\nMany of us have come across AI assisted technology from time to time\, like spelling and grammar checks and the suggested words on your smartphone while texting. And some may have used the suggestions from the AI. Here is a chance to see how you can leverage generative AI to help write your syllabus\, start lesson planning\, and even start a course presentation. \nSession facilitated by: Caroline Kong (CAT) and Katie Healey (EPIC & CEILS) \n\n\n\n\n\n\n\n\n\n\n\n\n\n\n\n\n\n\n\n\n\n\n\n\n\n\n\n\nWorkshop Goals\n\n\nUnderstand the basics of generative AI technology and its potential uses in teaching. \n\n\nIdentify ways to use the generative AI tools to create content for your course\, such as learning objectives\, policies to include in your syllabus\, lesson plans\, and slide presentations.  \n\n\nLearn strategies for incorporating generative AI tools into existing teaching practices in a meaningful and effective way. \n\n\nReflect on the implications of generative AI technology on the future of education and society at large.
URL:https://ceils.ucla.edu/event/a-conversation-with-ai-hands-on-demonstration-of-chatgpt-and-other-ai-tools/
LOCATION:Online
CATEGORIES:CEILS Sponsored,Online Event,UCLA
END:VEVENT
END:VCALENDAR