
BEGIN:VCALENDAR
VERSION:2.0
PRODID:-//Center for Education, Innovation, and Learning in the Sciences - ECPv6.15.20//NONSGML v1.0//EN
CALSCALE:GREGORIAN
METHOD:PUBLISH
X-ORIGINAL-URL:https://ceils.ucla.edu
X-WR-CALDESC:Events for Center for Education, Innovation, and Learning in the Sciences
REFRESH-INTERVAL;VALUE=DURATION:PT1H
X-Robots-Tag:noindex
X-PUBLISHED-TTL:PT1H
BEGIN:VTIMEZONE
TZID:America/Los_Angeles
BEGIN:DAYLIGHT
TZOFFSETFROM:-0800
TZOFFSETTO:-0700
TZNAME:PDT
DTSTART:20220313T100000
END:DAYLIGHT
BEGIN:STANDARD
TZOFFSETFROM:-0700
TZOFFSETTO:-0800
TZNAME:PST
DTSTART:20221106T090000
END:STANDARD
BEGIN:DAYLIGHT
TZOFFSETFROM:-0800
TZOFFSETTO:-0700
TZNAME:PDT
DTSTART:20230312T100000
END:DAYLIGHT
BEGIN:STANDARD
TZOFFSETFROM:-0700
TZOFFSETTO:-0800
TZNAME:PST
DTSTART:20231105T090000
END:STANDARD
BEGIN:DAYLIGHT
TZOFFSETFROM:-0800
TZOFFSETTO:-0700
TZNAME:PDT
DTSTART:20240310T100000
END:DAYLIGHT
BEGIN:STANDARD
TZOFFSETFROM:-0700
TZOFFSETTO:-0800
TZNAME:PST
DTSTART:20241103T090000
END:STANDARD
END:VTIMEZONE
BEGIN:VEVENT
DTSTART;TZID=America/Los_Angeles:20230515T120000
DTEND;TZID=America/Los_Angeles:20230515T133000
DTSTAMP:20260421T070516
CREATED:20230502T210240Z
LAST-MODIFIED:20230502T210240Z
UID:7710-1684152000-1684157400@ceils.ucla.edu
SUMMARY:ChatGPT for Programming: Exploring AI as a Potential Equity-Lever for Learning to Code?
DESCRIPTION:Session Information\nDate: Monday\, May 15 \nTime: 12pm – 1:30pm PT \nLocation: Zoom (Register for Zoom link) \n\n\n\n\n\n\n\nSession Description\nHow can we leverage AI to support authentic learning while also mitigating potential harm to learning?  This is a national conversation happening across higher education\, and the applications vary across disciplines. When it comes to programming\, there is a lot of potential for supporting student learning-​- ​helping students understand why their code might be incorrect\, interpreting and providing documentation on lines of code\, and improving student code by making it more complex or more streamlined depending on the goal​ — just to name a few examples.​ ​L​ive virtual ​1:1 ​support​ via ChatGPT and other similar tools​ is ​now ​available 24-7 and ​accessible to all students\, regardless of their financial means​.​ In this modern age of AI\, how can we best leverage these new and emerging tools to support all students (in particular\, those who may need extra help)? How do we coach students on how to interact with AI responsibly and in a way that deepens their learning (and does not undermine it)? \nPresenters: \nWilliam Stein\, CEO of SageMath and CoCalc.com will present on CoCalc’s AI tool and data collected on how students engage with that tool.  Sharmila Venugopal\,Assistant Adjunct Professor for Integrative Biology and Physiology will the Life Sciences Core will share her experiences piloting activities that ask students to engage with ChatGPT to compare and contrast their debugging skills with the AI generated responses. \n  \nSession facilitated by:  Jess Gregg\, Senior Associate Director for the Center for Education Innovation and Learning in the Sciences (CEILS). Contact Jess at jessgregg@ceils.ucla.edu with any questions.
URL:https://ceils.ucla.edu/event/chatgpt-for-programming-exploring-ai-as-a-potential-equity-lever-for-learning-to-code/
LOCATION:Online
CATEGORIES:CEILS Sponsored,Online Event,UCLA
END:VEVENT
END:VCALENDAR