
BEGIN:VCALENDAR
VERSION:2.0
PRODID:-//Center for Education, Innovation, and Learning in the Sciences - ECPv6.15.20//NONSGML v1.0//EN
CALSCALE:GREGORIAN
METHOD:PUBLISH
X-WR-CALNAME:Center for Education, Innovation, and Learning in the Sciences
X-ORIGINAL-URL:https://ceils.ucla.edu
X-WR-CALDESC:Events for Center for Education, Innovation, and Learning in the Sciences
REFRESH-INTERVAL;VALUE=DURATION:PT1H
X-Robots-Tag:noindex
X-PUBLISHED-TTL:PT1H
BEGIN:VTIMEZONE
TZID:America/Los_Angeles
BEGIN:DAYLIGHT
TZOFFSETFROM:-0800
TZOFFSETTO:-0700
TZNAME:PDT
DTSTART:20220313T100000
END:DAYLIGHT
BEGIN:STANDARD
TZOFFSETFROM:-0700
TZOFFSETTO:-0800
TZNAME:PST
DTSTART:20221106T090000
END:STANDARD
BEGIN:DAYLIGHT
TZOFFSETFROM:-0800
TZOFFSETTO:-0700
TZNAME:PDT
DTSTART:20230312T100000
END:DAYLIGHT
BEGIN:STANDARD
TZOFFSETFROM:-0700
TZOFFSETTO:-0800
TZNAME:PST
DTSTART:20231105T090000
END:STANDARD
BEGIN:DAYLIGHT
TZOFFSETFROM:-0800
TZOFFSETTO:-0700
TZNAME:PDT
DTSTART:20240310T100000
END:DAYLIGHT
BEGIN:STANDARD
TZOFFSETFROM:-0700
TZOFFSETTO:-0800
TZNAME:PST
DTSTART:20241103T090000
END:STANDARD
END:VTIMEZONE
BEGIN:VEVENT
DTSTART;TZID=America/Los_Angeles:20230512T140000
DTEND;TZID=America/Los_Angeles:20230512T153000
DTSTAMP:20260421T070136
CREATED:20230502T210107Z
LAST-MODIFIED:20230502T210107Z
UID:7707-1683900000-1683905400@ceils.ucla.edu
SUMMARY:AI in Action: Flash Talks on AI Use in the Classroom
DESCRIPTION:Session Information\nDate: Friday\, May 12 \nTime: 2pm – 3:30pm PT \nLocation: Zoom   🌟 Register here for Zoom link 🌟 \n  \n\n\n\n\n\n\n\nSession Description\nJoin us for a series of 5-minute flash talks by faculty and graduate & undergrad students discussing the potential uses of generative AI in teaching and learning. This event aims to explore the practical implications of AI technology and will provide attendees with an opportunity to engage with speakers and ask questions about their use of ChatGPT and other generative AI technology in their classrooms. \nPanelists: \n  \n\n\nNushrat “Esha” Esha\, Undergraduate student\, WI+RE \n\n\nLogan Juliano\, Writing Programs Continuing Lecturer | From Lesson Planning to Classroom Success: Personalized Chatbots for Instructors and Students  \n\n\nAndrew Lee\, Ph.D. Student in Psychology | What ChatGPT Has (and Has Not) Learned–or ChatGPT Is a Team Problem for Students and Educators Alike  \n\n\nGaston Pfluegl\, Academic Administrator and Lab Director for the Life Sciences Core |  Recalibrating Grade Distribution to Elevate Peer Review for Evaluating Learning \n\n\nLaurel Westrup\,  Writing Programs Continuing Lecturer | Co-writing with ChatGPT: A Remixed Assignment \n\n\n  \nSession facilitated by: EPIC\, CEILS\, CAT\, OTL\, and COE
URL:https://ceils.ucla.edu/event/ai-in-action-flash-talks-on-ai-use-in-the-classroom/
LOCATION:Online
CATEGORIES:CEILS Sponsored,Online Event,UCLA
END:VEVENT
END:VCALENDAR