
BEGIN:VCALENDAR
VERSION:2.0
PRODID:-//Center for Education, Innovation, and Learning in the Sciences - ECPv6.15.20//NONSGML v1.0//EN
CALSCALE:GREGORIAN
METHOD:PUBLISH
X-WR-CALNAME:Center for Education, Innovation, and Learning in the Sciences
X-ORIGINAL-URL:https://ceils.ucla.edu
X-WR-CALDESC:Events for Center for Education, Innovation, and Learning in the Sciences
REFRESH-INTERVAL;VALUE=DURATION:PT1H
X-Robots-Tag:noindex
X-PUBLISHED-TTL:PT1H
BEGIN:VTIMEZONE
TZID:America/Los_Angeles
BEGIN:DAYLIGHT
TZOFFSETFROM:-0800
TZOFFSETTO:-0700
TZNAME:PDT
DTSTART:20220313T100000
END:DAYLIGHT
BEGIN:STANDARD
TZOFFSETFROM:-0700
TZOFFSETTO:-0800
TZNAME:PST
DTSTART:20221106T090000
END:STANDARD
BEGIN:DAYLIGHT
TZOFFSETFROM:-0800
TZOFFSETTO:-0700
TZNAME:PDT
DTSTART:20230312T100000
END:DAYLIGHT
BEGIN:STANDARD
TZOFFSETFROM:-0700
TZOFFSETTO:-0800
TZNAME:PST
DTSTART:20231105T090000
END:STANDARD
BEGIN:DAYLIGHT
TZOFFSETFROM:-0800
TZOFFSETTO:-0700
TZNAME:PDT
DTSTART:20240310T100000
END:DAYLIGHT
BEGIN:STANDARD
TZOFFSETFROM:-0700
TZOFFSETTO:-0800
TZNAME:PST
DTSTART:20241103T090000
END:STANDARD
END:VTIMEZONE
BEGIN:VEVENT
DTSTART;TZID=America/Los_Angeles:20230713T130000
DTEND;TZID=America/Los_Angeles:20230713T143000
DTSTAMP:20260420T214108
CREATED:20230627T173824Z
LAST-MODIFIED:20230627T173824Z
UID:7809-1689253200-1689258600@ceils.ucla.edu
SUMMARY:DBER-SiT event\, Education Career Pathways: A virtual panel event
DESCRIPTION:DBER-SiT event\, Education Career Pathways: A virtual panel event \nThe panel will be hosted by the DBER-SiT Professional Development team via Zoom on Thursday July 13 2023\, 1pm-2:30pm PT / 4pm-5:30pm ET. The goal of the event is to highlight different education-focused career pathways available to those with a life sciences and/or DBER background. Some of the jobs they’ll highlight include teaching/research faculty positions\, community outreach-focused roles\, directors at centers for teaching & learning\, and education technology developers. \nThe 1st hour of the event will consist of a structured panel discussion\, followed by an open Q&A with the audience. If you are interested in attending the event\, please RSVP here. \nFeel free to contact Zack (Zachary…@colorado.edu) and Ming (min…@mit.edu) if you have any questions about this or future events.
URL:https://ceils.ucla.edu/event/dber-sit-event-education-career-pathways-a-virtual-panel-event/
LOCATION:Zoom
CATEGORIES:Online Event,SABER
END:VEVENT
END:VCALENDAR