
BEGIN:VCALENDAR
VERSION:2.0
PRODID:-//Center for Education, Innovation, and Learning in the Sciences - ECPv6.15.20//NONSGML v1.0//EN
CALSCALE:GREGORIAN
METHOD:PUBLISH
X-WR-CALNAME:Center for Education, Innovation, and Learning in the Sciences
X-ORIGINAL-URL:https://ceils.ucla.edu
X-WR-CALDESC:Events for Center for Education, Innovation, and Learning in the Sciences
REFRESH-INTERVAL;VALUE=DURATION:PT1H
X-Robots-Tag:noindex
X-PUBLISHED-TTL:PT1H
BEGIN:VTIMEZONE
TZID:America/Los_Angeles
BEGIN:DAYLIGHT
TZOFFSETFROM:-0800
TZOFFSETTO:-0700
TZNAME:PDT
DTSTART:20220313T100000
END:DAYLIGHT
BEGIN:STANDARD
TZOFFSETFROM:-0700
TZOFFSETTO:-0800
TZNAME:PST
DTSTART:20221106T090000
END:STANDARD
BEGIN:DAYLIGHT
TZOFFSETFROM:-0800
TZOFFSETTO:-0700
TZNAME:PDT
DTSTART:20230312T100000
END:DAYLIGHT
BEGIN:STANDARD
TZOFFSETFROM:-0700
TZOFFSETTO:-0800
TZNAME:PST
DTSTART:20231105T090000
END:STANDARD
BEGIN:DAYLIGHT
TZOFFSETFROM:-0800
TZOFFSETTO:-0700
TZNAME:PDT
DTSTART:20240310T100000
END:DAYLIGHT
BEGIN:STANDARD
TZOFFSETFROM:-0700
TZOFFSETTO:-0800
TZNAME:PST
DTSTART:20241103T090000
END:STANDARD
END:VTIMEZONE
BEGIN:VEVENT
DTSTART;TZID=America/Los_Angeles:20230912T090000
DTEND;TZID=America/Los_Angeles:20230912T163000
DTSTAMP:20260420T184311
CREATED:20230525T210440Z
LAST-MODIFIED:20230909T020253Z
UID:7765-1694509200-1694536200@ceils.ucla.edu
SUMMARY:Faculty Workshop on Best Equitable Practices in Teaching: Transitioning to the “Post-Pandemic” Classroom
DESCRIPTION:Faculty Workshop on Best Equitable Practices in Teaching: Transitioning to the “Post-Pandemic” Classroom\nTuesday\, September 12\, 2023 | Hershey Hall\, Room 158\n9am – 4:30 pm followed by Reception\nSessions will feature faculty and student guest speakers\n \nWe are now in the midst of a transition to a “new normal” in what many refer to as the “post-pandemic classroom”. This year\, CEILS has put together a series of workshops to help you support your students and yourself through the transition to the new learning environments of the current day. Topics Include: \n\nCentering Community and Inclusivity in our Classrooms from Day 1\nAddressing Pandemic Effects on Students’ Academic Progress & Learning \nBite-sized Teaching Options that Support Learning and Your Wellness \nTime Saving Strategies For You and Your TAs \n\nPlus breakout sessions\, reception\, and resource sharing. View our agenda here: September 2023 Agenda \nAbout the Faculty Workshop \nThis annual\, all-day faculty workshop addresses select topics in science and math education. This workshop is appropriate for everyone—new or veteran teachers—interested in learning more about equitable teaching practices based on education research. We especially encourage instructors who either are relatively new to college teaching or who have instructional responsibilities in large enrollment gateway courses for science\, technology\, engineering\, and math (STEM) majors. \nTopics include effective course design as well as student-centered teaching strategies that incorporate active learning and create equitable and inclusive classroom environments. Many of the instructional techniques focus on facilitating peer learning and other collaborative and group activities designed to support student success in large enrollment classes. \nThe format and emphasis of this day-long event has been modified from previous years\, so even if you have participated in this workshop before\, you might consider attending again and learning something new!
URL:https://ceils.ucla.edu/event/faculty-workshop-on-best-equitable-practices-in-teaching-transitioning-to-the-post-pandemic-classroom/
LOCATION:Hershey Hall 158
CATEGORIES:CEILS Sponsored,CEILS Workshop,On Campus Event,UCLA
END:VEVENT
END:VCALENDAR