
BEGIN:VCALENDAR
VERSION:2.0
PRODID:-//Center for Education, Innovation, and Learning in the Sciences - ECPv6.15.20//NONSGML v1.0//EN
CALSCALE:GREGORIAN
METHOD:PUBLISH
X-ORIGINAL-URL:https://ceils.ucla.edu
X-WR-CALDESC:Events for Center for Education, Innovation, and Learning in the Sciences
REFRESH-INTERVAL;VALUE=DURATION:PT1H
X-Robots-Tag:noindex
X-PUBLISHED-TTL:PT1H
BEGIN:VTIMEZONE
TZID:America/Los_Angeles
BEGIN:DAYLIGHT
TZOFFSETFROM:-0800
TZOFFSETTO:-0700
TZNAME:PDT
DTSTART:20240310T100000
END:DAYLIGHT
BEGIN:STANDARD
TZOFFSETFROM:-0700
TZOFFSETTO:-0800
TZNAME:PST
DTSTART:20241103T090000
END:STANDARD
BEGIN:DAYLIGHT
TZOFFSETFROM:-0800
TZOFFSETTO:-0700
TZNAME:PDT
DTSTART:20250309T100000
END:DAYLIGHT
BEGIN:STANDARD
TZOFFSETFROM:-0700
TZOFFSETTO:-0800
TZNAME:PST
DTSTART:20251102T090000
END:STANDARD
BEGIN:DAYLIGHT
TZOFFSETFROM:-0800
TZOFFSETTO:-0700
TZNAME:PDT
DTSTART:20260308T100000
END:DAYLIGHT
BEGIN:STANDARD
TZOFFSETFROM:-0700
TZOFFSETTO:-0800
TZNAME:PST
DTSTART:20261101T090000
END:STANDARD
END:VTIMEZONE
BEGIN:VEVENT
DTSTART;TZID=America/Los_Angeles:20250502T120000
DTEND;TZID=America/Los_Angeles:20250502T133000
DTSTAMP:20260419T074040
CREATED:20250331T170308Z
LAST-MODIFIED:20250331T170346Z
UID:9012-1746187200-1746192600@ceils.ucla.edu
SUMMARY:Teaching Tables: How to Let Go of the Frustrating Parts of Teaching
DESCRIPTION:It can be disheartening when your lesson plan does not go the way you expected. Students may have a different understanding of what is expected of them\, leaving you feeling at a loss. This session will help you gain confidence in identifying where any misunderstandings are and how to address them while bringing joy to your work. Tell us your stories of motivating student behavior\, tell us your strategies for staying motivated throughout the term\, and get a keepsake to remind you of them! \n  \nCome join us on May 2nd at 12pm in TSLB 1100 for the Teaching Tables session on how to let go of the frustrating parts of teaching!  \n  \nWe look forward to hearing your thoughts! \n  \nClick here to RSVP!
URL:https://ceils.ucla.edu/event/may-2nd-how-to-let-go-of-the-frustrating-parts-of-teaching/
LOCATION:1100 Terasaki Life Sciences Building\, 1100 Terasaki Life Sciences Building\, UCLA\, Los Angeles\, CA\, 90095\, United States
END:VEVENT
END:VCALENDAR