
BEGIN:VCALENDAR
VERSION:2.0
PRODID:-//Center for Education, Innovation, and Learning in the Sciences - ECPv6.15.20//NONSGML v1.0//EN
CALSCALE:GREGORIAN
METHOD:PUBLISH
X-ORIGINAL-URL:https://ceils.ucla.edu
X-WR-CALDESC:Events for Center for Education, Innovation, and Learning in the Sciences
REFRESH-INTERVAL;VALUE=DURATION:PT1H
X-Robots-Tag:noindex
X-PUBLISHED-TTL:PT1H
BEGIN:VTIMEZONE
TZID:America/Los_Angeles
BEGIN:DAYLIGHT
TZOFFSETFROM:-0800
TZOFFSETTO:-0700
TZNAME:PDT
DTSTART:20230312T100000
END:DAYLIGHT
BEGIN:STANDARD
TZOFFSETFROM:-0700
TZOFFSETTO:-0800
TZNAME:PST
DTSTART:20231105T090000
END:STANDARD
BEGIN:DAYLIGHT
TZOFFSETFROM:-0800
TZOFFSETTO:-0700
TZNAME:PDT
DTSTART:20240310T100000
END:DAYLIGHT
BEGIN:STANDARD
TZOFFSETFROM:-0700
TZOFFSETTO:-0800
TZNAME:PST
DTSTART:20241103T090000
END:STANDARD
BEGIN:DAYLIGHT
TZOFFSETFROM:-0800
TZOFFSETTO:-0700
TZNAME:PDT
DTSTART:20250309T100000
END:DAYLIGHT
BEGIN:STANDARD
TZOFFSETFROM:-0700
TZOFFSETTO:-0800
TZNAME:PST
DTSTART:20251102T090000
END:STANDARD
END:VTIMEZONE
BEGIN:VEVENT
DTSTART;TZID=America/Los_Angeles:20241122T123000
DTEND;TZID=America/Los_Angeles:20241122T140000
DTSTAMP:20260419T174628
CREATED:20240821T183524Z
LAST-MODIFIED:20240828T172049Z
UID:8649-1732278600-1732284000@ceils.ucla.edu
SUMMARY:CEILS Teaching Table for STEM Classrooms: Campus Partners Meet-and-Greet; Supporting Student Wellness and Responding to Students in Crisis
DESCRIPTION:Join a community of educators in exploring\, innovating\, and collaborating on teaching topics! RSVP to secure your spot today!  \nInstructors across the Life and Physical Sciences are invited to participate. Those who attend a minimum of 4 of the 6 sessions will receive a certificate of completion for their dossier. \nFridays 12:30 – 2 pm\, Terasaki Life Sciences Building 1100 \nRSVP Here
URL:https://ceils.ucla.edu/event/ceils-teaching-table-for-stem-classrooms-campus-partners-meet-and-greet-supporting-student-wellness-and-responding-to-students-in-crisis/
LOCATION:1100 Terasaki Life Sciences Building\, 1100 Terasaki Life Sciences Building\, UCLA\, Los Angeles\, CA\, 90095\, United States
END:VEVENT
END:VCALENDAR