
BEGIN:VCALENDAR
VERSION:2.0
PRODID:-//Center for Education, Innovation, and Learning in the Sciences - ECPv6.15.20//NONSGML v1.0//EN
CALSCALE:GREGORIAN
METHOD:PUBLISH
X-WR-CALNAME:Center for Education, Innovation, and Learning in the Sciences
X-ORIGINAL-URL:https://ceils.ucla.edu
X-WR-CALDESC:Events for Center for Education, Innovation, and Learning in the Sciences
REFRESH-INTERVAL;VALUE=DURATION:PT1H
X-Robots-Tag:noindex
X-PUBLISHED-TTL:PT1H
BEGIN:VTIMEZONE
TZID:America/Los_Angeles
BEGIN:DAYLIGHT
TZOFFSETFROM:-0800
TZOFFSETTO:-0700
TZNAME:PDT
DTSTART:20230312T100000
END:DAYLIGHT
BEGIN:STANDARD
TZOFFSETFROM:-0700
TZOFFSETTO:-0800
TZNAME:PST
DTSTART:20231105T090000
END:STANDARD
BEGIN:DAYLIGHT
TZOFFSETFROM:-0800
TZOFFSETTO:-0700
TZNAME:PDT
DTSTART:20240310T100000
END:DAYLIGHT
BEGIN:STANDARD
TZOFFSETFROM:-0700
TZOFFSETTO:-0800
TZNAME:PST
DTSTART:20241103T090000
END:STANDARD
BEGIN:DAYLIGHT
TZOFFSETFROM:-0800
TZOFFSETTO:-0700
TZNAME:PDT
DTSTART:20250309T100000
END:DAYLIGHT
BEGIN:STANDARD
TZOFFSETFROM:-0700
TZOFFSETTO:-0800
TZNAME:PST
DTSTART:20251102T090000
END:STANDARD
END:VTIMEZONE
BEGIN:VEVENT
DTSTART;TZID=America/Los_Angeles:20240523T140000
DTEND;TZID=America/Los_Angeles:20240523T150000
DTSTAMP:20260420T040440
CREATED:20240508T163158Z
LAST-MODIFIED:20240508T163158Z
UID:8470-1716472800-1716476400@ceils.ucla.edu
SUMMARY:ED Talks-"Generative AI in 2024: Exploring Emerging Practices in Teaching and Learning" by Jess Gregg M.A.\, Ed.M.\, LMFT. (she/her)
DESCRIPTION:Located: Terasaki Rm 1100 and Zoom \nIt has been less than two years since the launch of ChatGPT in late 2022\, but rapid development of new AI tools has led to adoption by millions of users around the world\, with full applications still unknown and untested. In this talk we will take a look at some of the emerging practices in higher education for teaching and learning that instructors can integrate into STEM courses here at UCLA and discuss potential future impacts as well as concerns related to AI. \nRSVP Here
URL:https://ceils.ucla.edu/event/ed-talks-generative-ai-in-2024-exploring-emerging-practices-in-teaching-and-learning-by-jess-gregg-m-a-ed-m-lmft-she-her/
END:VEVENT
END:VCALENDAR