
BEGIN:VCALENDAR
VERSION:2.0
PRODID:-//Center for Education, Innovation, and Learning in the Sciences - ECPv6.15.20//NONSGML v1.0//EN
CALSCALE:GREGORIAN
METHOD:PUBLISH
X-ORIGINAL-URL:https://ceils.ucla.edu
X-WR-CALDESC:Events for Center for Education, Innovation, and Learning in the Sciences
REFRESH-INTERVAL;VALUE=DURATION:PT1H
X-Robots-Tag:noindex
X-PUBLISHED-TTL:PT1H
BEGIN:VTIMEZONE
TZID:America/Los_Angeles
BEGIN:DAYLIGHT
TZOFFSETFROM:-0800
TZOFFSETTO:-0700
TZNAME:PDT
DTSTART:20230312T100000
END:DAYLIGHT
BEGIN:STANDARD
TZOFFSETFROM:-0700
TZOFFSETTO:-0800
TZNAME:PST
DTSTART:20231105T090000
END:STANDARD
BEGIN:DAYLIGHT
TZOFFSETFROM:-0800
TZOFFSETTO:-0700
TZNAME:PDT
DTSTART:20240310T100000
END:DAYLIGHT
BEGIN:STANDARD
TZOFFSETFROM:-0700
TZOFFSETTO:-0800
TZNAME:PST
DTSTART:20241103T090000
END:STANDARD
BEGIN:DAYLIGHT
TZOFFSETFROM:-0800
TZOFFSETTO:-0700
TZNAME:PDT
DTSTART:20250309T100000
END:DAYLIGHT
BEGIN:STANDARD
TZOFFSETFROM:-0700
TZOFFSETTO:-0800
TZNAME:PST
DTSTART:20251102T090000
END:STANDARD
END:VTIMEZONE
BEGIN:VEVENT
DTSTART;TZID=America/Los_Angeles:20240516T140000
DTEND;TZID=America/Los_Angeles:20240516T150000
DTSTAMP:20260420T040917
CREATED:20240308T184111Z
LAST-MODIFIED:20240425T214457Z
UID:8252-1715868000-1715871600@ceils.ucla.edu
SUMMARY:ED Talks Teaching-as-Research Lightning Talks by CIRTL Scholars followed by a Happy Hour
DESCRIPTION:Located: Terasaki Rm 1100 and Zoom \nJoin us to hear three CIRTL@UCLA Scholars share their “Teaching-as-Research” findings. We have the following three talks lined up for this session: \n\nAndrew Ramirez\, PhD candidate\, Bioengineering. Integrating Equity Principles into Bioengineering Machine Learning Curriculum\nEmily Neer\, PhD candidate\, Psychology. Encouraging Undergraduate Students to Rest: A Classroom Intervention Study\nHannah Tandy\, PhD candidate\, Geology. Student feelings of Diversity and Belonging – Including Historical Context in Introduction to Oceanography\n\nRSVP Here
URL:https://ceils.ucla.edu/event/ed-talks-3/
LOCATION:1100 Terasaki Life Sciences Building\, 1100 Terasaki Life Sciences Building\, UCLA\, Los Angeles\, CA\, 90095\, United States
END:VEVENT
END:VCALENDAR