
BEGIN:VCALENDAR
VERSION:2.0
PRODID:-//Center for Education, Innovation, and Learning in the Sciences - ECPv6.15.20//NONSGML v1.0//EN
CALSCALE:GREGORIAN
METHOD:PUBLISH
X-WR-CALNAME:Center for Education, Innovation, and Learning in the Sciences
X-ORIGINAL-URL:https://ceils.ucla.edu
X-WR-CALDESC:Events for Center for Education, Innovation, and Learning in the Sciences
REFRESH-INTERVAL;VALUE=DURATION:PT1H
X-Robots-Tag:noindex
X-PUBLISHED-TTL:PT1H
BEGIN:VTIMEZONE
TZID:America/Los_Angeles
BEGIN:DAYLIGHT
TZOFFSETFROM:-0800
TZOFFSETTO:-0700
TZNAME:PDT
DTSTART:20230312T100000
END:DAYLIGHT
BEGIN:STANDARD
TZOFFSETFROM:-0700
TZOFFSETTO:-0800
TZNAME:PST
DTSTART:20231105T090000
END:STANDARD
BEGIN:DAYLIGHT
TZOFFSETFROM:-0800
TZOFFSETTO:-0700
TZNAME:PDT
DTSTART:20240310T100000
END:DAYLIGHT
BEGIN:STANDARD
TZOFFSETFROM:-0700
TZOFFSETTO:-0800
TZNAME:PST
DTSTART:20241103T090000
END:STANDARD
BEGIN:DAYLIGHT
TZOFFSETFROM:-0800
TZOFFSETTO:-0700
TZNAME:PDT
DTSTART:20250309T100000
END:DAYLIGHT
BEGIN:STANDARD
TZOFFSETFROM:-0700
TZOFFSETTO:-0800
TZNAME:PST
DTSTART:20251102T090000
END:STANDARD
END:VTIMEZONE
BEGIN:VEVENT
DTSTART;TZID=America/Los_Angeles:20240321T123000
DTEND;TZID=America/Los_Angeles:20240321T140000
DTSTAMP:20260420T072712
CREATED:20240306T192533Z
LAST-MODIFIED:20240306T192721Z
UID:8215-1711024200-1711029600@ceils.ucla.edu
SUMMARY:Learning Community: UCLA Early Career Faculty in the Sciences
DESCRIPTION:The CEILS team invites you to carve out a little time to gather in the community and get support from each other on all things related to teaching here at UCLA. This community is designed to support early career faculty across disciplines in the sciences who have joined UCLA within the past 5 years. Lunch provided!
URL:https://ceils.ucla.edu/event/learning-community-ucla-early-career-faculty-in-the-sciences/
LOCATION:1100 Terasaki Life Sciences Building\, 1100 Terasaki Life Sciences Building\, UCLA\, Los Angeles\, CA\, 90095\, United States
END:VEVENT
BEGIN:VEVENT
DTSTART;TZID=America/Los_Angeles:20240321T150000
DTEND;TZID=America/Los_Angeles:20240321T170000
DTSTAMP:20260420T072712
CREATED:20240221T180456Z
LAST-MODIFIED:20240221T180456Z
UID:8194-1711033200-1711040400@ceils.ucla.edu
SUMMARY:CEILS Happy Hour
DESCRIPTION:You’re invited to celebrate the end of the Winter Quarter with food\, refreshments\, and quality time together! Please join us anytime between 3:00 – 5:00pm in the Hershey Hall South Courtyard.
URL:https://ceils.ucla.edu/event/ceils-happy-hour/
LOCATION:Hershey Hall South Courtyard
END:VEVENT
END:VCALENDAR