
BEGIN:VCALENDAR
VERSION:2.0
PRODID:-//Center for Education, Innovation, and Learning in the Sciences - ECPv6.15.20//NONSGML v1.0//EN
CALSCALE:GREGORIAN
METHOD:PUBLISH
X-WR-CALNAME:Center for Education, Innovation, and Learning in the Sciences
X-ORIGINAL-URL:https://ceils.ucla.edu
X-WR-CALDESC:Events for Center for Education, Innovation, and Learning in the Sciences
REFRESH-INTERVAL;VALUE=DURATION:PT1H
X-Robots-Tag:noindex
X-PUBLISHED-TTL:PT1H
BEGIN:VTIMEZONE
TZID:America/Los_Angeles
BEGIN:DAYLIGHT
TZOFFSETFROM:-0800
TZOFFSETTO:-0700
TZNAME:PDT
DTSTART:20230312T100000
END:DAYLIGHT
BEGIN:STANDARD
TZOFFSETFROM:-0700
TZOFFSETTO:-0800
TZNAME:PST
DTSTART:20231105T090000
END:STANDARD
BEGIN:DAYLIGHT
TZOFFSETFROM:-0800
TZOFFSETTO:-0700
TZNAME:PDT
DTSTART:20240310T100000
END:DAYLIGHT
BEGIN:STANDARD
TZOFFSETFROM:-0700
TZOFFSETTO:-0800
TZNAME:PST
DTSTART:20241103T090000
END:STANDARD
BEGIN:DAYLIGHT
TZOFFSETFROM:-0800
TZOFFSETTO:-0700
TZNAME:PDT
DTSTART:20250309T100000
END:DAYLIGHT
BEGIN:STANDARD
TZOFFSETFROM:-0700
TZOFFSETTO:-0800
TZNAME:PST
DTSTART:20251102T090000
END:STANDARD
END:VTIMEZONE
BEGIN:VEVENT
DTSTART;TZID=America/Los_Angeles:20240111T140000
DTEND;TZID=America/Los_Angeles:20240111T145000
DTSTAMP:20260420T105119
CREATED:20240111T230054Z
LAST-MODIFIED:20240111T230054Z
UID:8184-1704981600-1704984600@ceils.ucla.edu
SUMMARY:EdTalks@CEILS Learning Community Event: "The Effects of Collaborative Practice Testing on Memory for Course Content in Introductory Psychology"
DESCRIPTION:Melissa Paquette-Smith\, Assistant Teaching Professor\, UCLA Department of Psychology \n“The Effects of Collaborative Practice Testing on Memory for Course Content in Introductory Psychology”
URL:https://ceils.ucla.edu/event/edtalksceils-learning-community-event-the-effects-of-collaborative-practice-testing-on-memory-for-course-content-in-introductory-psychology/
LOCATION:1100 Terasaki Life Sciences Building\, 1100 Terasaki Life Sciences Building\, UCLA\, Los Angeles\, CA\, 90095\, United States
END:VEVENT
END:VCALENDAR