
BEGIN:VCALENDAR
VERSION:2.0
PRODID:-//Center for Education, Innovation, and Learning in the Sciences - ECPv6.15.20//NONSGML v1.0//EN
CALSCALE:GREGORIAN
METHOD:PUBLISH
X-ORIGINAL-URL:https://ceils.ucla.edu
X-WR-CALDESC:Events for Center for Education, Innovation, and Learning in the Sciences
REFRESH-INTERVAL;VALUE=DURATION:PT1H
X-Robots-Tag:noindex
X-PUBLISHED-TTL:PT1H
BEGIN:VTIMEZONE
TZID:America/Los_Angeles
BEGIN:DAYLIGHT
TZOFFSETFROM:-0800
TZOFFSETTO:-0700
TZNAME:PDT
DTSTART:20220313T100000
END:DAYLIGHT
BEGIN:STANDARD
TZOFFSETFROM:-0700
TZOFFSETTO:-0800
TZNAME:PST
DTSTART:20221106T090000
END:STANDARD
BEGIN:DAYLIGHT
TZOFFSETFROM:-0800
TZOFFSETTO:-0700
TZNAME:PDT
DTSTART:20230312T100000
END:DAYLIGHT
BEGIN:STANDARD
TZOFFSETFROM:-0700
TZOFFSETTO:-0800
TZNAME:PST
DTSTART:20231105T090000
END:STANDARD
BEGIN:DAYLIGHT
TZOFFSETFROM:-0800
TZOFFSETTO:-0700
TZNAME:PDT
DTSTART:20240310T100000
END:DAYLIGHT
BEGIN:STANDARD
TZOFFSETFROM:-0700
TZOFFSETTO:-0800
TZNAME:PST
DTSTART:20241103T090000
END:STANDARD
END:VTIMEZONE
BEGIN:VEVENT
DTSTART;TZID=America/Los_Angeles:20231025T150000
DTEND;TZID=America/Los_Angeles:20231025T160000
DTSTAMP:20260420T180149
CREATED:20231006T224009Z
LAST-MODIFIED:20231006T224009Z
UID:8055-1698246000-1698249600@ceils.ucla.edu
SUMMARY:Ed Talks @CEILS: Academic Experiences of Queer\, Trans\, Black\, Indigenous\, Students of Color at UCLA
DESCRIPTION:Manuel Ramirez\nOctober 25 | 3:00pm – 4:00pm PDT\nAcademic Experiences of Queer\, Trans\, Black\, Indigenous\, Students of Color at UCLA \nRegister here \nUsing qualitative interview data from the UCLA LGBTQ+ Campus Resource Center’s 2023 QTBIPOC Student Experiences Project\, we highlight the unique experiences that our QTBIPOC students face on our campus and how to address it. \nManuel is a second year doctoral student in the psychology program studying stigma and health processes among sexual and gender minorities. Currently\, he works at the UCLA LGBTQ Campus Resource Center as a student researcher for the QTBIPOC Student Experiences Project\, a qualitative needs assessment of the experiences of UCLA’s lesbian\, gay\, bisexual\, transgender\, queer\, asexual\, aromantic\, and intersex (LGBTQIA+) graduate and undergraduate Black\, Indigenous\, Students of Color (BIPOC). \nFor more information\, please visit: https://lgbtq.ucla.edu/qtbipoc-experiences
URL:https://ceils.ucla.edu/event/ed-talks-ceils-academic-experiences-of-queer-trans-black-indigenous-students-of-color-at-ucla/
LOCATION:Terasaki Life Sciences 1100
CATEGORIES:CEILS Sponsored,Journal Club,On Campus Event,Online Event
END:VEVENT
END:VCALENDAR