
BEGIN:VCALENDAR
VERSION:2.0
PRODID:-//Center for Education, Innovation, and Learning in the Sciences - ECPv6.15.20//NONSGML v1.0//EN
CALSCALE:GREGORIAN
METHOD:PUBLISH
X-ORIGINAL-URL:https://ceils.ucla.edu
X-WR-CALDESC:Events for Center for Education, Innovation, and Learning in the Sciences
REFRESH-INTERVAL;VALUE=DURATION:PT1H
X-Robots-Tag:noindex
X-PUBLISHED-TTL:PT1H
BEGIN:VTIMEZONE
TZID:America/Los_Angeles
BEGIN:DAYLIGHT
TZOFFSETFROM:-0800
TZOFFSETTO:-0700
TZNAME:PDT
DTSTART:20220313T100000
END:DAYLIGHT
BEGIN:STANDARD
TZOFFSETFROM:-0700
TZOFFSETTO:-0800
TZNAME:PST
DTSTART:20221106T090000
END:STANDARD
BEGIN:DAYLIGHT
TZOFFSETFROM:-0800
TZOFFSETTO:-0700
TZNAME:PDT
DTSTART:20230312T100000
END:DAYLIGHT
BEGIN:STANDARD
TZOFFSETFROM:-0700
TZOFFSETTO:-0800
TZNAME:PST
DTSTART:20231105T090000
END:STANDARD
BEGIN:DAYLIGHT
TZOFFSETFROM:-0800
TZOFFSETTO:-0700
TZNAME:PDT
DTSTART:20240310T100000
END:DAYLIGHT
BEGIN:STANDARD
TZOFFSETFROM:-0700
TZOFFSETTO:-0800
TZNAME:PST
DTSTART:20241103T090000
END:STANDARD
END:VTIMEZONE
BEGIN:VEVENT
DTSTART;VALUE=DATE:20231020
DTEND;VALUE=DATE:20231021
DTSTAMP:20260420T180150
CREATED:20230418T221438Z
LAST-MODIFIED:20230418T221438Z
UID:7686-1697760000-1697846399@ceils.ucla.edu
SUMMARY:Championing an Equity-Focused Approach to Student Success at the Community College: Empowering Students and Faculty in STEM
DESCRIPTION:Santa Monica College\, in partnership with the California Community Colleges’ Success Network (3CSN)\, will be hosting \, an NSF-sponsored one-day virtual conference (#2231669) that focuses on practices in STEM aimed at closing equity gaps for historically marginalized communities\, including Black and Latinx students. This conference provides a platform to exchange ideas and knowledge\, and to highlight faculty innovations\, programs\, and student support services that promote equity and inclusion in STEM education. \nThe presenters will highlight projects\, guide workshops\, and illustrate practices they have used in progressing towards closing equity gaps. The attendees will gain knowledge in building a process to better understand the impact and effectiveness of equity-focused professional development. The conference will foster discussion around improving STEM education and motivate educators to develop equitable pedagogical and institutional practices centered on underrepresented and racially minoritized students. \nKeynote Speaker: Dr. Terrell R. Morton\, Assistant Professor of Identity and Justice in STEM Education and Scholar-Activist\, engages work that specifically looks at understanding how identity shapes students’ decision-making in postsecondary STEM and how\, through critical\, strengths-based frameworks\, we can re-envision the culture and context of STEM education.
URL:https://ceils.ucla.edu/event/championing-an-equity-focused-approach-to-student-success-at-the-community-college-empowering-students-and-faculty-in-stem/
LOCATION:Santa Monica College
CATEGORIES:Off Campus Event
END:VEVENT
END:VCALENDAR