
BEGIN:VCALENDAR
VERSION:2.0
PRODID:-//Center for Education, Innovation, and Learning in the Sciences - ECPv6.15.20//NONSGML v1.0//EN
CALSCALE:GREGORIAN
METHOD:PUBLISH
X-WR-CALNAME:Center for Education, Innovation, and Learning in the Sciences
X-ORIGINAL-URL:https://ceils.ucla.edu
X-WR-CALDESC:Events for Center for Education, Innovation, and Learning in the Sciences
REFRESH-INTERVAL;VALUE=DURATION:PT1H
X-Robots-Tag:noindex
X-PUBLISHED-TTL:PT1H
BEGIN:VTIMEZONE
TZID:America/Los_Angeles
BEGIN:DAYLIGHT
TZOFFSETFROM:-0800
TZOFFSETTO:-0700
TZNAME:PDT
DTSTART:20220313T100000
END:DAYLIGHT
BEGIN:STANDARD
TZOFFSETFROM:-0700
TZOFFSETTO:-0800
TZNAME:PST
DTSTART:20221106T090000
END:STANDARD
BEGIN:DAYLIGHT
TZOFFSETFROM:-0800
TZOFFSETTO:-0700
TZNAME:PDT
DTSTART:20230312T100000
END:DAYLIGHT
BEGIN:STANDARD
TZOFFSETFROM:-0700
TZOFFSETTO:-0800
TZNAME:PST
DTSTART:20231105T090000
END:STANDARD
BEGIN:DAYLIGHT
TZOFFSETFROM:-0800
TZOFFSETTO:-0700
TZNAME:PDT
DTSTART:20240310T100000
END:DAYLIGHT
BEGIN:STANDARD
TZOFFSETFROM:-0700
TZOFFSETTO:-0800
TZNAME:PST
DTSTART:20241103T090000
END:STANDARD
END:VTIMEZONE
BEGIN:VEVENT
DTSTART;TZID=America/Los_Angeles:20230810T110000
DTEND;TZID=America/Los_Angeles:20230810T130000
DTSTAMP:20260420T211057
CREATED:20230808T172709Z
LAST-MODIFIED:20230808T172709Z
UID:7954-1691665200-1691672400@ceils.ucla.edu
SUMMARY:Shaping the Future: Policy Considerations for AI in Higher Education Institutions
DESCRIPTION:An important step toward unlocking the full potential of AI in education is to develop sound policies for use. Join our exclusive webinar for higher education leaders to explore key considerations and best practices for implementing AI and ChatGPT at both the institutional and course levels. Engage with experts and practitioners in AI\, education\, and policy to navigate the ethical\, legal\, and practical aspects of AI integration. You will leave better equipped to harness the transformative power of AI while upholding academic integrity\, enabling student success and maintaining the human touch that is vital to higher education.
URL:https://ceils.ucla.edu/event/shaping-the-future-policy-considerations-for-ai-in-higher-education-institutions/
LOCATION:Online
CATEGORIES:Online Event
END:VEVENT
END:VCALENDAR