
BEGIN:VCALENDAR
VERSION:2.0
PRODID:-//Center for Education, Innovation, and Learning in the Sciences - ECPv6.15.20//NONSGML v1.0//EN
CALSCALE:GREGORIAN
METHOD:PUBLISH
X-ORIGINAL-URL:https://ceils.ucla.edu
X-WR-CALDESC:Events for Center for Education, Innovation, and Learning in the Sciences
REFRESH-INTERVAL;VALUE=DURATION:PT1H
X-Robots-Tag:noindex
X-PUBLISHED-TTL:PT1H
BEGIN:VTIMEZONE
TZID:America/Los_Angeles
BEGIN:DAYLIGHT
TZOFFSETFROM:-0800
TZOFFSETTO:-0700
TZNAME:PDT
DTSTART:20220313T100000
END:DAYLIGHT
BEGIN:STANDARD
TZOFFSETFROM:-0700
TZOFFSETTO:-0800
TZNAME:PST
DTSTART:20221106T090000
END:STANDARD
BEGIN:DAYLIGHT
TZOFFSETFROM:-0800
TZOFFSETTO:-0700
TZNAME:PDT
DTSTART:20230312T100000
END:DAYLIGHT
BEGIN:STANDARD
TZOFFSETFROM:-0700
TZOFFSETTO:-0800
TZNAME:PST
DTSTART:20231105T090000
END:STANDARD
BEGIN:DAYLIGHT
TZOFFSETFROM:-0800
TZOFFSETTO:-0700
TZNAME:PDT
DTSTART:20240310T100000
END:DAYLIGHT
BEGIN:STANDARD
TZOFFSETFROM:-0700
TZOFFSETTO:-0800
TZNAME:PST
DTSTART:20241103T090000
END:STANDARD
END:VTIMEZONE
BEGIN:VEVENT
DTSTART;TZID=America/Los_Angeles:20230809T130000
DTEND;TZID=America/Los_Angeles:20230809T150000
DTSTAMP:20260420T211310
CREATED:20230808T172005Z
LAST-MODIFIED:20230808T172005Z
UID:7951-1691586000-1691593200@ceils.ucla.edu
SUMMARY:Building the Right Foundation\, the Right Way: Curriculum Mapping for Equity and Student Success
DESCRIPTION:Building the Right Foundation\, the Right Way: Curricular Mapping for Equity and Student Success\n\n\n\n\n\n\n\n\n\n\n\n\n\n\n\n\n\n\n \n\n\n\n\n\n\nWebinar starts at 1:00 PM Pacific on Wednesday\, August 9th\, 2023 \nCurriculum mapping and its upkeep is often relegated to a faculty colleague or administrator who has been voluntold to be responsible for it – usually for accreditation purposes. However\, building a strong curriculum map and using it effectively\, as a program\, offers exponential value: for faculty learning and development\, programmatic continuous improvement and in planning interventions to bolster student success. \n\n\n\nAttend this webinar to gain a brief overview of the language\, tools\, strategies\, and techniques to engage in mapping – a seemingly arduous task – in ways that advances Universal Design Learning (UDL)\, inclusive teaching and learning best practices\, and Equity – all for faculty and student success. \nREGISTER NOW
URL:https://ceils.ucla.edu/event/building-the-right-foundation-the-right-way-curriculum-mapping-for-equity-and-student-success/
LOCATION:Online
CATEGORIES:Online Event
END:VEVENT
END:VCALENDAR